BEGIN:VCALENDAR
VERSION:2.0
PRODID:-//ChamberMaster//Event Calendar 2.0//EN
METHOD:PUBLISH
X-PUBLISHED-TTL:P3D
REFRESH-INTERVAL:P3D
CALSCALE:GREGORIAN
BEGIN:VEVENT
DTSTART;VALUE=DATE:20250914
DTEND;VALUE=DATE:20250920
TRANSP:TRANSPARENT
X-MICROSOFT-CDO-ALLDAYEVENT:TRUE
SUMMARY:2025 Texas Delegation to Gothenburg
DESCRIPTION:Join the 2025 Texas Delegation to Gothenburg - A Unique Business Opportunity\n\nWe invite you to join the 2025 Texas Delegation to Gothenburg\, taking place September 14-19\, 2025 (with meetings scheduled for September 15-19).\n\nAs part of the Nordic Texas Initiative led by the Gothenburg University U-GOT KIES Centre\, organized by Maureen McKelvey and Helene Honeybone\, this visit offers a dynamic three-day program in Gothenburg\, followed by two days of customized meetings and site visits in a city of your choice\, such as Lund or Stockholm complemented by cultural experiences.\n\nAs a SACC Texas member\, this is an exceptional opportunity to engage with Swedish start-ups\, scale-ups\, and key industry stakeholders\, including companies exploring U.S. expansion. It's also a prime chance to showcase our Texas thriving business ecosystem\, highlight its strengths\, and encourage Swedish companies to establish a presence in our region.\n\nIf you are interested in participating\, please contact:\n\nHelene Honeybone\n\nHonorary Consul\n\nHonorary Consulate of Sweden\, Dallas\n\nEmail: dallas@consulateofsweden.org\n\nPhone: +1 (214) 308-2590\n\nMaureen McKelvey\n\nProfessor of Industrial Economics & Management\n\nUniversity of Gothenburg\n\nEmail: maureen.mckelvey@handels.gu.se\n\nPhone: +46 76 618 1442\n\nWe look forward to your participation in this exciting initiative!
X-ALT-DESC;FMTTYPE=text/html:<div class="x_1873493779elementToProof" style="color: black\; margin: 1em 0px\; font-family: Aptos\, Aptos_EmbeddedFont\, Aptos_MSFontService\, Calibri\, Helvetica\, sans-serif\; font-size: 12pt\;"><span style="font-size:24px\;"><b>Join the 2025 Texas Delegation to Gothenburg -&nbsp\;A Unique Business Opportunity</b></span></div>\n\n<div class="x_1873493779elementToProof" style="color: black\; margin-top: 1em\; margin-bottom: 1em\; font-family: Aptos\, Aptos_EmbeddedFont\, Aptos_MSFontService\, Calibri\, Helvetica\, sans-serif\; font-size: 12pt\;"><span style="font-size:16px\;">We invite you to join the&nbsp\;<b>2025 Texas Delegation to Gothenburg</b>\, taking place&nbsp\;<b><span aria-haspopup="true" aria-label="Add a task\, event\, or reminder for September 14" class="zm_inLnk" data-value="2025-09-14 12:00:00" role="button" style="border-bottom: 1px dashed rgb(85\, 85\, 85)\; cursor: pointer\; line-height: 1\; transition: 0.3s\;" tabindex="0">September 14-</span>19\, 2025</b>&nbsp\;(with meetings scheduled for&nbsp\;<span aria-haspopup="true" aria-label="Add a task\, event\, or reminder for September 15" class="zm_inLnk" data-value="2025-09-15 12:00:00" role="button" style="border-bottom: 1px dashed rgb(85\, 85\, 85)\; cursor: pointer\; line-height: 1\; transition: 0.3s\;" tabindex="0">September 15-</span>19).</span></div>\n\n<div class="x_1873493779elementToProof" style="color: black\; margin-top: 1em\; margin-bottom: 1em\; font-family: Aptos\, Aptos_EmbeddedFont\, Aptos_MSFontService\, Calibri\, Helvetica\, sans-serif\; font-size: 12pt\;"><span style="font-size:16px\;">As part of the&nbsp\;<b>Nordic Texas Initiative</b>&nbsp\;led by the&nbsp\;<b>Gothenburg University U-GOT KIES Centre</b>\,&nbsp\;organized by&nbsp\;<b>Maureen McKelvey</b>&nbsp\;and&nbsp\;<b>Helene Honeybone</b>\, this visit offers a dynamic&nbsp\;<b>three-day program in Gothenburg</b>\, followed by&nbsp\;<b>two days of customized meetings and site visits</b>&nbsp\;in a city of your choice\, such as Lund or Stockholm complemented by cultural experiences.</span></div>\n\n<div class="x_1873493779elementToProof" style="color: black\; margin-top: 1em\; margin-bottom: 1em\; font-family: Aptos\, Aptos_EmbeddedFont\, Aptos_MSFontService\, Calibri\, Helvetica\, sans-serif\; font-size: 12pt\;"><span style="font-size:16px\;">As a&nbsp\;<b>SACC Texas member</b>\, this&nbsp\;is an exceptional opportunity to&nbsp\;<b>engage with Swedish</b>&nbsp\;<b>start-ups\, scale-ups\, and key industry stakeholders</b>\, including companies exploring U.S. expansion. It&#39\;s also a prime chance to showcase our&nbsp\;<b>Texas&nbsp\;thriving business ecosystem</b>\, highlight its strengths\, and encourage Swedish companies to establish a presence in our region.</span></div>\n\n<div class="x_1873493779elementToProof" style="color: black\; margin-top: 1em\; margin-bottom: 1em\; font-family: Aptos\, Aptos_EmbeddedFont\, Aptos_MSFontService\, Calibri\, Helvetica\, sans-serif\; font-size: 12pt\;"><span style="font-size:16px\;">If you are interested in participating\, please contact:</span></div>\n\n<div class="x_1873493779elementToProof" style="color: black\; margin-top: 1em\; margin-bottom: 1em\; font-family: Aptos\, Aptos_EmbeddedFont\, Aptos_MSFontService\, Calibri\, Helvetica\, sans-serif\; font-size: 12pt\;"><span style="font-size:16px\;"><b>Helene Honeybone</b><br />\nHonorary Consul<br />\nHonorary Consulate of Sweden\, Dallas</span><br />\nEmail: dallas@consulateofsweden.org<br />\nPhone:&nbsp\;<span style="color: rgb(36\, 36\, 36)\; font-family: Arial\, sans-serif\; font-size: 13.3333px\;">+1 (214) 308-2590</span></div>\n\n<div class="x_1873493779elementToProof" style="color: black\; margin-top: 1em\; margin-bottom: 1em\; font-family: Aptos\, Aptos_EmbeddedFont\, Aptos_MSFontService\, Calibri\, Helvetica\, sans-serif\; font-size: 12pt\;"><span style="font-size:16px\;"><b>Maureen McKelvey</b><br />\nProfessor of Industrial Economics &amp\; Management<br />\nUniversity of Gothenburg<br />\nEmail:&nbsp\;</span>maureen.mckelvey@handels.gu.se<br />\n<span style="font-size:16px\;">Phone:&nbsp\;</span><span style="font-size:14px\;"><span style="color: rgb(0\, 0\, 0)\; font-family: Aptos\, sans-serif\;">+46 76&nbsp\;618 1442</span></span></div>\n\n<div class="x_1873493779elementToProof" style="color: black\; margin-top: 1em\; margin-bottom: 1em\; font-family: Aptos\, Aptos_EmbeddedFont\, Aptos_MSFontService\, Calibri\, Helvetica\, sans-serif\; font-size: 12pt\;"><span style="font-size:16px\;">We look forward to your participation in this exciting initiative!</span></div>\n
LOCATION:
UID:e.1936.4954
SEQUENCE:3
DTSTAMP:20260420T095156Z
URL:https://chamber.sacctx.com/events/details/2025-texas-delegation-to-gothenburg-4954
END:VEVENT

END:VCALENDAR
