BEGIN:VCALENDAR
VERSION:2.0
PRODID:-//ChamberMaster//Event Calendar 2.0//EN
METHOD:PUBLISH
X-PUBLISHED-TTL:P3D
REFRESH-INTERVAL:P3D
CALSCALE:GREGORIAN
BEGIN:VEVENT
DTSTART:20250915T130000Z
DTEND:20250915T150000Z
X-MICROSOFT-CDO-ALLDAYEVENT:FALSE
SUMMARY:2025 Texas Delegation to Gothenburg - Panel Discussion
DESCRIPTION:Public Panel on Technology & Entrepreneurship\n\nGet ready to join an inspiring afternoon as leading voices from Sweden and the US come together for a transatlantic panel on technology and entrepreneurship in a geopolitical world.\n\nThis event is all about building connections\, sharing insights\, and exploring how we can strengthen collaboration between our two countries in times of both challenges and opportunities. Expect thought-provoking discussions\, fresh perspectives\, and the chance to engage directly during our open Q&A.\n\n \n\n  Mark your calendar!\n\nMonday\, September 15\, 2025\n\n  15:00 17:00 CEST (Sweden) | 8:00 10:00 AM CDT (Texas)\n\nFollowed by Q&A and networking\n\n  Location:\n\nAula\, Main University Building\, Vasaparken\, University of Gothenburg\n\n  Online participation available (link shared with registered participants)\n\n  Panelists include:\n\nHannes Helander   Royal Swedish Academy of Engineering Sciences\n\nIlona Kiebler   Management Consultant Digital Transformation (ERP Specialist) at Kiebler&Partners\n\nLinda McMahon   CEO\, Dallas Economic Development Corporation\n\nDr. Mitch Stevison   President & CEO\, Frontgrade Technologies\n\nKlementina  sterberg   CEO\, GU Ventures\n\nModerated by:\n\nHelene Honeybone   Entrepreneur & Honorary Consul of Sweden\, Dallas\n\nMaureen McKelvey   Professor & Director\, U-GOT KIES\, University of Gothenburg\n\n  Register here: Event Registration\n\nThis panel is part of the Nordic Texas Initiative\, a collaboration between U-GOT KIES\, the Honorary Consulate of Sweden in Dallas\, and SACC-Dallas   building bridges in innovation\, entrepreneurship\, and technology.
X-ALT-DESC;FMTTYPE=text/html:<div class="x_1873493779elementToProof" style="color: black\; margin: 1em 0px\; font-family: Aptos\, Aptos_EmbeddedFont\, Aptos_MSFontService\, Calibri\, Helvetica\, sans-serif\; font-size: 12pt\;">\n<p dir="ltr" style="line-height:1.38\;margin-top:12pt\;margin-bottom:12pt\;"><span style="font-size:28px\;"><span id="docs-internal-guid-d60133d9-7fff-0360-5ece-ddacb9d27b1b"><span style="font-family: &quot\;Times New Roman&quot\;\, serif\; color: rgb(0\, 0\, 0)\; background-color: transparent\; font-weight: 700\; font-variant-numeric: normal\; font-variant-east-asian: normal\; font-variant-alternates: normal\; font-variant-position: normal\; font-variant-emoji: normal\; vertical-align: baseline\; white-space-collapse: preserve\;">Public Panel on Technology &amp\; Entrepreneurship</span></span></span></p>\n\n<p dir="ltr" style="line-height:1.38\;margin-top:12pt\;margin-bottom:12pt\;"><span id="docs-internal-guid-d60133d9-7fff-0360-5ece-ddacb9d27b1b"><span style="font-size: 12pt\; font-family: &quot\;Times New Roman&quot\;\, serif\; color: rgb(0\, 0\, 0)\; background-color: transparent\; font-variant-numeric: normal\; font-variant-east-asian: normal\; font-variant-alternates: normal\; font-variant-position: normal\; font-variant-emoji: normal\; vertical-align: baseline\; white-space-collapse: preserve\;">Get ready to join an inspiring afternoon as leading voices from Sweden and the US come together for a transatlantic panel on technology and entrepreneurship in a geopolitical world</span><span style="font-size: 12pt\; font-family: &quot\;Times New Roman&quot\;\, serif\; color: rgb(0\, 0\, 0)\; background-color: transparent\; font-weight: 700\; font-variant-numeric: normal\; font-variant-east-asian: normal\; font-variant-alternates: normal\; font-variant-position: normal\; font-variant-emoji: normal\; vertical-align: baseline\; white-space-collapse: preserve\;">.</span></span></p>\n\n<p dir="ltr" style="line-height:1.38\;margin-top:12pt\;margin-bottom:12pt\;"><span id="docs-internal-guid-d60133d9-7fff-0360-5ece-ddacb9d27b1b"><span style="font-size: 12pt\; font-family: &quot\;Times New Roman&quot\;\, serif\; color: rgb(0\, 0\, 0)\; background-color: transparent\; font-variant-numeric: normal\; font-variant-east-asian: normal\; font-variant-alternates: normal\; font-variant-position: normal\; font-variant-emoji: normal\; vertical-align: baseline\; white-space-collapse: preserve\;">This event is all about building connections\, sharing insights\, and exploring how we can strengthen collaboration between our two countries in times of both challenges and opportunities. Expect thought-provoking discussions\, fresh perspectives\, and the chance to engage directly during our open Q&amp\;A.</span></span><br />\n&nbsp\;</p>\n\n<p dir="ltr" style="line-height:1.38\;margin-top:12pt\;margin-bottom:12pt\;"><span id="docs-internal-guid-d60133d9-7fff-0360-5ece-ddacb9d27b1b"><span style="font-size: 12pt\; font-family: &quot\;Times New Roman&quot\;\, serif\; color: rgb(0\, 0\, 0)\; background-color: transparent\; font-variant-numeric: normal\; font-variant-east-asian: normal\; font-variant-alternates: normal\; font-variant-position: normal\; font-variant-emoji: normal\; vertical-align: baseline\; white-space-collapse: preserve\;">&#128197\; </span><span style="font-size: 12pt\; font-family: &quot\;Times New Roman&quot\;\, serif\; color: rgb(0\, 0\, 0)\; background-color: transparent\; font-weight: 700\; font-variant-numeric: normal\; font-variant-east-asian: normal\; font-variant-alternates: normal\; font-variant-position: normal\; font-variant-emoji: normal\; vertical-align: baseline\; white-space-collapse: preserve\;">Mark your calendar!</span><br />\n<span style="font-size: 12pt\; font-family: &quot\;Times New Roman&quot\;\, serif\; color: rgb(0\, 0\, 0)\; background-color: transparent\; font-variant-numeric: normal\; font-variant-east-asian: normal\; font-variant-alternates: normal\; font-variant-position: normal\; font-variant-emoji: normal\; vertical-align: baseline\; white-space-collapse: preserve\;">Monday\, September 15\, 2025</span><br />\n<span style="font-size: 12pt\; font-family: &quot\;Times New Roman&quot\;\, serif\; color: rgb(0\, 0\, 0)\; background-color: transparent\; font-variant-numeric: normal\; font-variant-east-asian: normal\; font-variant-alternates: normal\; font-variant-position: normal\; font-variant-emoji: normal\; vertical-align: baseline\; white-space-collapse: preserve\;">&#128338\; 15:00&ndash\;17:00 CEST (Sweden) | 8:00&ndash\;10:00 AM CDT (Texas)</span><br />\n<span style="font-size: 12pt\; font-family: &quot\;Times New Roman&quot\;\, serif\; color: rgb(0\, 0\, 0)\; background-color: transparent\; font-variant-numeric: normal\; font-variant-east-asian: normal\; font-variant-alternates: normal\; font-variant-position: normal\; font-variant-emoji: normal\; vertical-align: baseline\; white-space-collapse: preserve\;">Followed by Q&amp\;A and networking</span></span></p>\n\n<p dir="ltr" style="line-height:1.38\;margin-top:12pt\;margin-bottom:12pt\;"><span id="docs-internal-guid-d60133d9-7fff-0360-5ece-ddacb9d27b1b"><span style="font-size: 12pt\; font-family: &quot\;Times New Roman&quot\;\, serif\; color: rgb(0\, 0\, 0)\; background-color: transparent\; font-variant-numeric: normal\; font-variant-east-asian: normal\; font-variant-alternates: normal\; font-variant-position: normal\; font-variant-emoji: normal\; vertical-align: baseline\; white-space-collapse: preserve\;">&#128205\; </span><span style="font-size: 12pt\; font-family: &quot\;Times New Roman&quot\;\, serif\; color: rgb(0\, 0\, 0)\; background-color: transparent\; font-weight: 700\; font-variant-numeric: normal\; font-variant-east-asian: normal\; font-variant-alternates: normal\; font-variant-position: normal\; font-variant-emoji: normal\; vertical-align: baseline\; white-space-collapse: preserve\;">Location:</span><br />\n<span style="font-size: 12pt\; font-family: &quot\;Times New Roman&quot\;\, serif\; color: rgb(0\, 0\, 0)\; background-color: transparent\; font-variant-numeric: normal\; font-variant-east-asian: normal\; font-variant-alternates: normal\; font-variant-position: normal\; font-variant-emoji: normal\; vertical-align: baseline\; white-space-collapse: preserve\;">Aula\, Main University Building\, Vasaparken\, University of Gothenburg</span><br />\n<span style="font-size: 12pt\; font-family: &quot\;Times New Roman&quot\;\, serif\; color: rgb(0\, 0\, 0)\; background-color: transparent\; font-variant-numeric: normal\; font-variant-east-asian: normal\; font-variant-alternates: normal\; font-variant-position: normal\; font-variant-emoji: normal\; vertical-align: baseline\; white-space-collapse: preserve\;">&#128187\; Online participation available (link shared with registered participants)</span></span></p>\n\n<p dir="ltr" style="line-height:1.38\;margin-top:12pt\;margin-bottom:12pt\;"><span id="docs-internal-guid-d60133d9-7fff-0360-5ece-ddacb9d27b1b"><span style="font-size: 12pt\; font-family: &quot\;Times New Roman&quot\;\, serif\; color: rgb(0\, 0\, 0)\; background-color: transparent\; font-variant-numeric: normal\; font-variant-east-asian: normal\; font-variant-alternates: normal\; font-variant-position: normal\; font-variant-emoji: normal\; vertical-align: baseline\; white-space-collapse: preserve\;">&#127908\; </span><span style="font-size: 12pt\; font-family: &quot\;Times New Roman&quot\;\, serif\; color: rgb(0\, 0\, 0)\; background-color: transparent\; font-weight: 700\; font-variant-numeric: normal\; font-variant-east-asian: normal\; font-variant-alternates: normal\; font-variant-position: normal\; font-variant-emoji: normal\; vertical-align: baseline\; white-space-collapse: preserve\;">Panelists include:</span><br />\n<span style="font-size: 12pt\; font-family: &quot\;Times New Roman&quot\;\, serif\; color: rgb(0\, 0\, 0)\; background-color: transparent\; font-variant-numeric: normal\; font-variant-east-asian: normal\; font-variant-alternates: normal\; font-variant-position: normal\; font-variant-emoji: normal\; vertical-align: baseline\; white-space-collapse: preserve\;">Hannes Helander &ndash\; Royal Swedish Academy of Engineering Sciences</span><br />\n<span style="font-size: 12pt\; font-family: &quot\;Times New Roman&quot\;\, serif\; color: rgb(0\, 0\, 0)\; background-color: transparent\; font-variant-numeric: normal\; font-variant-east-asian: normal\; font-variant-alternates: normal\; font-variant-position: normal\; font-variant-emoji: normal\; vertical-align: baseline\; white-space-collapse: preserve\;">Ilona Kiebler &ndash\; </span><span style="font-size: 12pt\; font-family: &quot\;Times New Roman&quot\;\, serif\; color: rgb(0\, 0\, 0)\; font-variant-numeric: normal\; font-variant-east-asian: normal\; font-variant-alternates: normal\; font-variant-position: normal\; font-variant-emoji: normal\; vertical-align: baseline\; white-space-collapse: preserve\;">Management Consultant Digital Transformation (ERP Specialist) at Kiebler&amp\;Partners</span><br />\n<span style="font-size: 12pt\; font-family: &quot\;Times New Roman&quot\;\, serif\; color: rgb(0\, 0\, 0)\; background-color: transparent\; font-variant-numeric: normal\; font-variant-east-asian: normal\; font-variant-alternates: normal\; font-variant-position: normal\; font-variant-emoji: normal\; vertical-align: baseline\; white-space-collapse: preserve\;">Linda McMahon &ndash\; CEO\, Dallas Economic Development Corporation</span><br />\n<span style="font-size: 12pt\; font-family: &quot\;Times New Roman&quot\;\, serif\; color: rgb(0\, 0\, 0)\; background-color: transparent\; font-variant-numeric: normal\; font-variant-east-asian: normal\; font-variant-alternates: normal\; font-variant-position: normal\; font-variant-emoji: normal\; vertical-align: baseline\; white-space-collapse: preserve\;">Dr. Mitch Stevison &ndash\; President &amp\; CEO\, Frontgrade Technologies</span><br />\n<span style="font-size: 12pt\; font-family: &quot\;Times New Roman&quot\;\, serif\; color: rgb(0\, 0\, 0)\; background-color: transparent\; font-variant-numeric: normal\; font-variant-east-asian: normal\; font-variant-alternates: normal\; font-variant-position: normal\; font-variant-emoji: normal\; vertical-align: baseline\; white-space-collapse: preserve\;">Klementina &Ouml\;sterberg &ndash\; CEO\, GU Ventures</span></span></p>\n\n<p dir="ltr" style="line-height:1.38\;margin-top:12pt\;margin-bottom:12pt\;"><span id="docs-internal-guid-d60133d9-7fff-0360-5ece-ddacb9d27b1b"><span style="font-size: 12pt\; font-family: &quot\;Times New Roman&quot\;\, serif\; color: rgb(0\, 0\, 0)\; background-color: transparent\; font-weight: 700\; font-variant-numeric: normal\; font-variant-east-asian: normal\; font-variant-alternates: normal\; font-variant-position: normal\; font-variant-emoji: normal\; vertical-align: baseline\; white-space-collapse: preserve\;">Moderated by:</span><br />\n<span style="font-size: 12pt\; font-family: &quot\;Times New Roman&quot\;\, serif\; color: rgb(0\, 0\, 0)\; background-color: transparent\; font-variant-numeric: normal\; font-variant-east-asian: normal\; font-variant-alternates: normal\; font-variant-position: normal\; font-variant-emoji: normal\; vertical-align: baseline\; white-space-collapse: preserve\;">Helene Honeybone &ndash\; Entrepreneur &amp\; Honorary Consul of Sweden\, Dallas</span><br />\n<span style="font-size: 12pt\; font-family: &quot\;Times New Roman&quot\;\, serif\; color: rgb(0\, 0\, 0)\; background-color: transparent\; font-variant-numeric: normal\; font-variant-east-asian: normal\; font-variant-alternates: normal\; font-variant-position: normal\; font-variant-emoji: normal\; vertical-align: baseline\; white-space-collapse: preserve\;">Maureen McKelvey &ndash\; Professor &amp\; Director\, U-GOT KIES\, University of Gothenburg</span></span></p>\n\n<p dir="ltr" style="line-height:1.38\;margin-top:12pt\;margin-bottom:12pt\;"><span id="docs-internal-guid-d60133d9-7fff-0360-5ece-ddacb9d27b1b"><span style="font-size: 12pt\; font-family: &quot\;Times New Roman&quot\;\, serif\; color: rgb(0\, 0\, 0)\; background-color: transparent\; font-variant-numeric: normal\; font-variant-east-asian: normal\; font-variant-alternates: normal\; font-variant-position: normal\; font-variant-emoji: normal\; vertical-align: baseline\; white-space-collapse: preserve\;">&#128073\; </span><span style="font-size: 12pt\; font-family: &quot\;Times New Roman&quot\;\, serif\; color: rgb(0\, 0\, 0)\; background-color: transparent\; font-weight: 700\; font-variant-numeric: normal\; font-variant-east-asian: normal\; font-variant-alternates: normal\; font-variant-position: normal\; font-variant-emoji: normal\; vertical-align: baseline\; white-space-collapse: preserve\;">Register here:</span><a href="https://link.gu.se/Events/7013/Apply" style="text-decoration-line: none\;"><span style="font-size: 12pt\; font-family: &quot\;Times New Roman&quot\;\, serif\; color: rgb(0\, 0\, 0)\; background-color: transparent\; font-variant-numeric: normal\; font-variant-east-asian: normal\; font-variant-alternates: normal\; font-variant-position: normal\; font-variant-emoji: normal\; vertical-align: baseline\; white-space-collapse: preserve\;"> </span><span style="font-size: 12pt\; font-family: &quot\;Times New Roman&quot\;\, serif\; color: rgb(5\, 99\, 193)\; background-color: transparent\; font-variant-numeric: normal\; font-variant-east-asian: normal\; font-variant-alternates: normal\; font-variant-position: normal\; font-variant-emoji: normal\; text-decoration-line: underline\; text-decoration-skip-ink: none\; vertical-align: baseline\; white-space-collapse: preserve\;">Event Registration</span></a></span></p>\n\n<p dir="ltr" style="line-height:1.38\;margin-top:12pt\;margin-bottom:12pt\;"><span id="docs-internal-guid-d60133d9-7fff-0360-5ece-ddacb9d27b1b"><span style="font-size: 12pt\; font-family: &quot\;Times New Roman&quot\;\, serif\; color: rgb(0\, 0\, 0)\; background-color: transparent\; font-variant-numeric: normal\; font-variant-east-asian: normal\; font-variant-alternates: normal\; font-variant-position: normal\; font-variant-emoji: normal\; vertical-align: baseline\; white-space-collapse: preserve\;">This panel is part of the Nordic Texas Initiative\, a collaboration between U-GOT KIES\, the Honorary Consulate of Sweden in Dallas\, and SACC-Dallas &ndash\; building bridges in innovation\, entrepreneurship\, and technology.</span></span></p>\n</div>\n
LOCATION:Online or the Aula\, University of Gothenburg\, Vasaparken\, Universitetsplatsen 1
UID:e.1936.4977
SEQUENCE:3
DTSTAMP:20260419T184541Z
URL:https://chamber.sacctx.com/events/details/2025-texas-delegation-to-gothenburg-panel-discussion-4977
END:VEVENT

END:VCALENDAR
