BEGIN:VCALENDAR
VERSION:2.0
PRODID:-//ChamberMaster//Event Calendar 2.0//EN
METHOD:PUBLISH
X-PUBLISHED-TTL:P3D
REFRESH-INTERVAL:P3D
CALSCALE:GREGORIAN
BEGIN:VEVENT
DTSTART:20221102T223000Z
DTEND:20221103T003000Z
X-MICROSOFT-CDO-ALLDAYEVENT:FALSE
SUMMARY:EuroTech Talks - Connected Resources for Industry 4.0
DESCRIPTION:EACC Texas are inviting all SACC Texas members to join EuroTech Talks -Connected Resources for Industry 4.0\n\n\n\nIoT devices use the internet to communicate\, collect\, and exchange information about our online activities. Every day\, they generate 1 billion GB of data. By 2025\, there's projected to be 42 billion IoT-connected devices globally moving from a 1 to1\, 1 to many\, to any transaction mode.  \nLearn more about how connected resources are delivering benefits across industries and will help unlock new revenues\, develop new skills while building a safer world.\n\n \n\nPanelists  \n\nOmar Ghazzaoui | LinkedIn\, Co-Founder and CEO at OTTOGEE\, VOS Systems\n\nTodd Nate\, Head of Private Wireless\, NAM\, Nokia\nChristian Hanebeck   Supply chain/ Founder and CEO of Truckl  \n\n \n\nModerator\n\nClaire Burgaud\, Director\, Partners & Ecosystems Marketing\, Nokia\n\n\n\n\nRegistration link
X-ALT-DESC;FMTTYPE=text/html:<span style="font-family:arial\;"><span style="color: rgb(85\, 85\, 85)\; font-size: 14.6667px\; background-color: rgb(255\, 255\, 255)\;">EACC Texas are inviting all SACC Texas members to join EuroTech Talks -Connected Resources for Industry 4.0<br />\n<br />\nIoT devices use the internet to communicate\, collect\, and exchange information about our online activities. Every day\, they generate&#8239\;1 billion GB&#8239\;of data. By 2025\, there&rsquo\;s projected to be&#8239\;42 billion&#8239\;IoT-connected devices globally moving from a 1 to1\, 1 to many\, to any transaction mode.&nbsp\;&nbsp\;</span></span>\n<div style="color: rgb(85\, 85\, 85)\; font-family: Arial\, Helvetica\, sans-serif\; font-size: 14.6667px\;"><span style="font-family:arial\;">Learn more about how connected resources are delivering benefits across industries and will help unlock new revenues\, develop new skills while building a safer world.</span><br />\n&nbsp\;\n<div class="elementToProof" style="color: rgb(85\, 85\, 85)\; font-family: Arial\, Helvetica\, sans-serif\; font-size: 11pt\;">\n<div><u>Panelists&nbsp\;</u>&nbsp\;</div>\n\n<div>Omar Ghazzaoui | LinkedIn\, Co-Founder and CEO at OTTOGEE\, VOS Systems</div>\n\n<div>Todd Nate\, Head of Private Wireless\, NAM\, Nokia</div>\nChristian Hanebeck &ndash\; Supply chain/ Founder and CEO of Truckl &nbsp\;</div>\n\n<div class="elementToProof" style="color: rgb(85\, 85\, 85)\; font-family: Arial\, Helvetica\, sans-serif\; font-size: 11pt\;">&nbsp\;</div>\n\n<div class="elementToProof" style="color: rgb(85\, 85\, 85)\; font-family: Arial\, Helvetica\, sans-serif\; font-size: 11pt\;"><u>Moderator</u></div>\n\n<div class="elementToProof ContentPasted0" style="color: rgb(85\, 85\, 85)\; font-family: Arial\, Helvetica\, sans-serif\; font-size: 11pt\;">Claire Burgaud\, Director\, Partners &amp\; Ecosystems Marketing\, Nokia</div>\n<br />\n<br />\n<span style="color: rgb(85\, 85\, 85)\; font-family: Arial\, Helvetica\, sans-serif\; font-size: 14.6667px\;">Registration</span><span style="color: rgb(85\, 85\, 85)\; font-family: Arial\, Helvetica\, sans-serif\; font-size: 14.6667px\;">&nbsp\;</span><a data-auth="NotApplicable" href="https://nam10.safelinks.protection.outlook.com/?url=https%3A%2F%2Feuropeanamericanchamberofcommercetexas.growthzoneapp.com%2Fap%2FEvents%2FRegister%2FMp59w73p%3FsourceTypeId%3DWebsite%26mode%3DAttendee&amp\;data=05%7C01%7Cpatrik.melander%40connectvg.com%7C73572d66b6494920718108dab5e0c167%7Cfa6320a4fdd94441831d772d8896769f%7C1%7C0%7C638022274195931615%7CUnknown%7CTWFpbGZsb3d8eyJWIjoiMC4wLjAwMDAiLCJQIjoiV2luMzIiLCJBTiI6Ik1haWwiLCJXVCI6Mn0%3D%7C3000%7C%7C%7C&amp\;sdata=s33tU6vOuYL%2Fc0pYWZjbEw99dV84hdBeADfPrp4f60g%3D&amp\;reserved=0" rel="noopener" style="word-break: break-word\; color: rgb(60\, 97\, 170)\; font-family: Arial\, Helvetica\, sans-serif\; font-size: 14.6667px\;" target="_blank">link</a></div>\n
LOCATION:Richardson IQ 1302 E Collins Blvd.\, Richardson\, TX\, 75081\, United States
UID:e.1936.4831
SEQUENCE:3
DTSTAMP:20260420T010102Z
URL:https://chamber.sacctx.com/events/details/eurotech-talks-connected-resources-for-industry-4-0-4831
END:VEVENT

END:VCALENDAR
