BEGIN:VCALENDAR
VERSION:2.0
PRODID:-//ChamberMaster//Event Calendar 2.0//EN
METHOD:PUBLISH
X-PUBLISHED-TTL:P3D
REFRESH-INTERVAL:P3D
CALSCALE:GREGORIAN
BEGIN:VEVENT
DTSTART:20250913T230000Z
DTEND:20250914T030000Z
X-MICROSOFT-CDO-ALLDAYEVENT:FALSE
SUMMARY:SACC Austin: Annual Crawfish Party
DESCRIPTION:After last year's success\, it's time once again for our annual Crayfish Party!  \n\nMark your calendars for September 13\, 6PM 10PM at Eleiko HQ   an evening full of Swedish traditions and great company.\n\nExpect plenty of crayfish\, drinks\, festive decorations\, and the exciting competition for the CRAYFISH TROPHY!  \n\n\n\nLimited spots available - Be sure to secure your spot in time!
X-ALT-DESC;FMTTYPE=text/html:<p data-end="184" data-start="99"><span style="font-size:18px\;"><strong data-end="181" data-start="99">After last year&rsquo\;s success\, it&rsquo\;s time once again for our annual Crayfish Party!</strong> &#129438\;</span></p>\n\n<p data-end="305" data-start="186"><span style="font-size:16px\;">Mark your calendars for <strong data-end="226" data-start="210">September 13</strong>\, 6PM&mdash\;10PM at <strong>Eleiko HQ&nbsp\;</strong>&mdash\; an evening full of Swedish traditions and great company.</span></p>\n\n<p dir="ltr" style="line-height:1.38\;margin-top:12pt\;margin-bottom:12pt\;"><span style="font-size:16px\;"><span style="font-family:arial\;"><span id="docs-internal-guid-2c6811a8-7fff-002a-92b1-76f45665a4fd"><span style="color: rgb(0\, 0\, 0)\; background-color: transparent\; font-variant-numeric: normal\; font-variant-east-asian: normal\; font-variant-alternates: normal\; font-variant-position: normal\; font-variant-emoji: normal\; vertical-align: baseline\; white-space-collapse: preserve\;">Expect</span></span></span>&nbsp\;<span style="font-family:arial\;"><span><span style="color: rgb(0\, 0\, 0)\; background-color: transparent\; font-variant-numeric: normal\; font-variant-east-asian: normal\; font-variant-alternates: normal\; font-variant-position: normal\; font-variant-emoji: normal\; vertical-align: baseline\; white-space-collapse: preserve\;">plenty of crayfish\, drinks\, festive decorations\, and the exciting competition for the </span><span style="color: rgb(0\, 0\, 0)\; background-color: transparent\; font-weight: 700\; font-variant-numeric: normal\; font-variant-east-asian: normal\; font-variant-alternates: normal\; font-variant-position: normal\; font-variant-emoji: normal\; vertical-align: baseline\; white-space-collapse: preserve\;">CRAYFISH TROPHY</span><span style="color: rgb(0\, 0\, 0)\; background-color: transparent\; font-variant-numeric: normal\; font-variant-east-asian: normal\; font-variant-alternates: normal\; font-variant-position: normal\; font-variant-emoji: normal\; vertical-align: baseline\; white-space-collapse: preserve\;">! &#127942\;</span></span></span><br />\n<br />\nLimited spots available - Be sure to secure your spot in time!</span></p>\n
LOCATION:Eleiko HQ 3910 S Industrial Drive Austin\, TX 78744
UID:e.1936.4974
SEQUENCE:3
DTSTAMP:20260420T083642Z
URL:https://chamber.sacctx.com/events/details/sacc-austin-annual-crawfish-party-4974
END:VEVENT

END:VCALENDAR
