BEGIN:VCALENDAR
VERSION:2.0
PRODID:-//ChamberMaster//Event Calendar 2.0//EN
METHOD:PUBLISH
X-PUBLISHED-TTL:P3D
REFRESH-INTERVAL:P3D
CALSCALE:GREGORIAN
BEGIN:VEVENT
DTSTART:20250515T220000Z
DTEND:20250516T000000Z
X-MICROSOFT-CDO-ALLDAYEVENT:FALSE
SUMMARY:SACC Austin: Nordic Business Mingle
DESCRIPTION:Join us for the Nordic Business Mingle in Austin!\n\nConnect\, collaborate\, and create new opportunities at the Nordic Business Mingle in the heart of Austin!\n\nThis vibrant networking event brings together Nordic people for an evening of friendly exchanges\, inspiring conversations\, and valuable business connections. Following the success in Houston\, we've decided to bring this concept to Austin as well. We're excited to grow the Nordic business community here and provide a casual setting to meet fellow professionals\, entrepreneurs\, and community members with shared interests.\n\nHosted at Easy Tiger South Lamar in Austin\, this is your chance to expand your professional network while enjoying great company and refreshing drinks.\n\nNo registration needed! Just swing by after work and bring your best networking spirit.\n\n\n\nDate: May 15th\n\nTime: 5 PM - 7 PM\n\nLocation: Easy Tiger South Lamar\, 3508 S Lamar Blvd #300\, Austin\, TX 78704\n\n\n\nHope to see you there!
X-ALT-DESC;FMTTYPE=text/html:<p data-end="166" data-start="113"><span style="font-size:16px\;"><strong data-end="166" data-start="113">Join us for the Nordic Business Mingle in Austin!</strong></span></p>\n\n<p data-end="272" data-start="168"><span style="font-size:16px\;">Connect\, collaborate\, and create new opportunities at the Nordic Business Mingle in the heart of Austin!</span></p>\n\n<p data-end="687" data-start="274"><span style="font-size:16px\;">This vibrant networking event brings together Nordic people for an evening of friendly exchanges\, inspiring conversations\, and valuable business connections. Following the success in Houston\, we&rsquo\;ve decided to bring this concept to Austin as well. We&#39\;re excited to grow the Nordic business community here and provide a casual setting to meet fellow professionals\, entrepreneurs\, and community members with shared interests.</span></p>\n\n<p data-end="840" data-start="689"><span style="font-size:16px\;">Hosted at Easy Tiger South Lamar in Austin\, this is your chance to expand your professional network while enjoying great company and refreshing drinks.</span></p>\n\n<p data-end="933" data-start="842"><span style="font-size:16px\;"><strong data-end="869" data-start="842">No registration needed!</strong> Just swing by after work and bring your best networking spirit.<br />\n<br />\nDate: May 15th<br />\nTime: 5 PM - 7 PM<br />\nLocation: Easy Tiger South Lamar\,&nbsp\;<span style="color: rgb(31\, 31\, 31)\; font-family: Roboto\, Arial\, sans-serif\;">3508 S Lamar Blvd #300\, Austin\, TX 78704<br />\n<br />\nHope to see you there!&nbsp\;</span></span></p>\n
LOCATION:Easy Tiger South Lamar\, 3508 S Lamar Blvd #300\, Austin\, TX 78704
UID:e.1936.4970
SEQUENCE:3
DTSTAMP:20260420T023144Z
URL:https://chamber.sacctx.com/events/details/sacc-austin-nordic-business-mingle-4970
END:VEVENT

END:VCALENDAR
