BEGIN:VCALENDAR
VERSION:2.0
PRODID:-//ChamberMaster//Event Calendar 2.0//EN
METHOD:PUBLISH
X-PUBLISHED-TTL:P3D
REFRESH-INTERVAL:P3D
CALSCALE:GREGORIAN
BEGIN:VEVENT
DTSTART:20250309T220000Z
DTEND:20250310T000000Z
X-MICROSOFT-CDO-ALLDAYEVENT:FALSE
SUMMARY:SACC Austin: SXSW Event
DESCRIPTION:Join Us for a Special SXSW Gathering at Eleiko!\n\nJoin us on Sunday\, March 9th at Eleiko Sport Inc. for an exciting social gathering during SXSW\, where you'll have the opportunity to connect with a dynamic mix of companies as well as representatives traveling from Sweden to Austin.\n\nThe evening will feature a special keynote speaker\, Siavosh Derakhti\, who will share his inspiring insights in his presentation "Courage and Commitment: Making a Difference in an Uncertain World."\n\nHosted by Eleiko\, this event promises a welcoming and engaging atmosphere\, complete with refreshments and authentic barbecue by The Smoking Swede. And of course\, no Swedish gathering is complete without something sweet! Our friends at Fika & Candy will introduce their brand and treat guests to a selection of authentic Swedish sweets.\n\nAbout Our Host   Corporate Member Eleiko\n\nEleiko has been a global leader in strength training for over 60 years\, providing premium weightlifting and fitness equipment to athletes and training facilities worldwide. With a commitment to innovation\, quality\, and performance\, Eleiko empowers people to become stronger\, healthier\, and better through world-class equipment and education.\n\nSpecial Guest   Siavosh Derakhti\n\nDuring the evening\, we will hear from Siavosh Derakhti\, an award-winning advocate for social change. Derakhti is not just a speaker - he s a changemaker. As a young muslim growing up in Malm \, Sweden\, Derakhti witnessed firsthand how his childhood bestfriend\, who was jewish\, faced antisemitism from an early age. Years later\, while in highschool\, Derakhti saw antisemitism continue to rise - and he knew he had to act. Determined to make a difference\, he launched initiatives to "bridge cultural divides" among Malm s youth. Since then\, Derakhti has organized study trips and created opportunities for young people from diverse backgrounds to connect. He is the founder of a non-profit organization called UMAF that works against antisemitism and Xenophobia\, and has been featured in Forbes Magazine as one of the world's most influential young leaders. Derakhti is also the first recipient of the newly established ELSA award and the inaugural Raoul Wallenberg Prize. In his speech\, "Courage and Commitment: Making a Difference in an Uncertain World\," Derakthi will share his inspiring journey and discuss the power of engagement\, diversity\, and leadership in today's world.\n\nPlease secure your spot by RSVPing promptly\, as availability is limited.\n\n  Date: March 9th\n\n  Time: 5:00 - 7:00 p.m.\n\n  Location: Eleiko Sport Inc.\, 3910 S Industrial Dr Suite 100\, Austin\, Tx 78744\n\nWe look forward to seeing you there!
X-ALT-DESC;FMTTYPE=text/html:<p dir="ltr" style="line-height:1.38\;margin-top:0pt\;margin-bottom:0pt\;"><br />\n<span style="font-family:arial\;"><span style="font-size:20px\;"><span id="docs-internal-guid-53a8a506-7fff-630f-a0db-69971b54c543"><span style="color: rgb(0\, 0\, 0)\; background-color: transparent\; font-weight: 700\; font-variant-numeric: normal\; font-variant-east-asian: normal\; font-variant-alternates: normal\; font-variant-position: normal\; font-variant-emoji: normal\; vertical-align: baseline\; white-space-collapse: preserve\;">Join Us for a Special SXSW Gathering at Eleiko!</span></span></span></span></p>\n\n<p dir="ltr" style="line-height:1.38\;margin-top:12pt\;margin-bottom:12pt\;"><span style="font-family:arial\;"><span id="docs-internal-guid-53a8a506-7fff-630f-a0db-69971b54c543"><span style="font-size: 12pt\; color: rgb(0\, 0\, 0)\; background-color: transparent\; font-variant-numeric: normal\; font-variant-east-asian: normal\; font-variant-alternates: normal\; font-variant-position: normal\; font-variant-emoji: normal\; vertical-align: baseline\; white-space-collapse: preserve\;">Join us on </span><span style="font-size: 12pt\; color: rgb(0\, 0\, 0)\; background-color: transparent\; font-weight: 700\; font-variant-numeric: normal\; font-variant-east-asian: normal\; font-variant-alternates: normal\; font-variant-position: normal\; font-variant-emoji: normal\; vertical-align: baseline\; white-space-collapse: preserve\;">Sunday\, March 9th</span><span style="font-size: 12pt\; color: rgb(0\, 0\, 0)\; background-color: transparent\; font-variant-numeric: normal\; font-variant-east-asian: normal\; font-variant-alternates: normal\; font-variant-position: normal\; font-variant-emoji: normal\; vertical-align: baseline\; white-space-collapse: preserve\;"> at </span><span style="font-size: 12pt\; color: rgb(0\, 0\, 0)\; background-color: transparent\; font-weight: 700\; font-variant-numeric: normal\; font-variant-east-asian: normal\; font-variant-alternates: normal\; font-variant-position: normal\; font-variant-emoji: normal\; vertical-align: baseline\; white-space-collapse: preserve\;">Eleiko Sport Inc.</span><span style="font-size: 12pt\; color: rgb(0\, 0\, 0)\; background-color: transparent\; font-variant-numeric: normal\; font-variant-east-asian: normal\; font-variant-alternates: normal\; font-variant-position: normal\; font-variant-emoji: normal\; vertical-align: baseline\; white-space-collapse: preserve\;"> for an exciting social gathering during SXSW\, where you&#39\;ll have the opportunity to connect with a dynamic mix of companies as well as representatives traveling from Sweden to Austin.</span></span></span></p>\n\n<p dir="ltr" style="line-height:1.38\;margin-top:12pt\;margin-bottom:12pt\;"><span style="font-family:arial\;"><span id="docs-internal-guid-53a8a506-7fff-630f-a0db-69971b54c543"><span style="font-size: 12pt\; color: rgb(0\, 0\, 0)\; background-color: transparent\; font-variant-numeric: normal\; font-variant-east-asian: normal\; font-variant-alternates: normal\; font-variant-position: normal\; font-variant-emoji: normal\; vertical-align: baseline\; white-space-collapse: preserve\;">The evening will feature a special keynote speaker\,</span><span style="font-size: 12pt\; color: rgb(0\, 0\, 0)\; background-color: transparent\; font-weight: 700\; font-variant-numeric: normal\; font-variant-east-asian: normal\; font-variant-alternates: normal\; font-variant-position: normal\; font-variant-emoji: normal\; vertical-align: baseline\; white-space-collapse: preserve\;"> Siavosh Derakhti</span><span style="font-size: 12pt\; color: rgb(0\, 0\, 0)\; background-color: transparent\; font-variant-numeric: normal\; font-variant-east-asian: normal\; font-variant-alternates: normal\; font-variant-position: normal\; font-variant-emoji: normal\; vertical-align: baseline\; white-space-collapse: preserve\;">\, who will share his inspiring insights in his presentation </span><span style="font-size: 12pt\; color: rgb(0\, 0\, 0)\; background-color: transparent\; font-weight: 700\; font-variant-numeric: normal\; font-variant-east-asian: normal\; font-variant-alternates: normal\; font-variant-position: normal\; font-variant-emoji: normal\; vertical-align: baseline\; white-space-collapse: preserve\;">&ldquo\;Courage and Commitment: Making a Difference in an Uncertain World.&rdquo\;</span></span></span></p>\n\n<p dir="ltr" style="line-height:1.38\;margin-top:12pt\;margin-bottom:12pt\;"><span style="font-family:arial\;"><span id="docs-internal-guid-53a8a506-7fff-630f-a0db-69971b54c543"><span style="font-size: 12pt\; color: rgb(0\, 0\, 0)\; background-color: transparent\; font-variant-numeric: normal\; font-variant-east-asian: normal\; font-variant-alternates: normal\; font-variant-position: normal\; font-variant-emoji: normal\; vertical-align: baseline\; white-space-collapse: preserve\;">Hosted by </span><span style="font-size: 12pt\; color: rgb(0\, 0\, 0)\; background-color: transparent\; font-weight: 700\; font-variant-numeric: normal\; font-variant-east-asian: normal\; font-variant-alternates: normal\; font-variant-position: normal\; font-variant-emoji: normal\; vertical-align: baseline\; white-space-collapse: preserve\;">Eleiko</span><span style="font-size: 12pt\; color: rgb(0\, 0\, 0)\; background-color: transparent\; font-variant-numeric: normal\; font-variant-east-asian: normal\; font-variant-alternates: normal\; font-variant-position: normal\; font-variant-emoji: normal\; vertical-align: baseline\; white-space-collapse: preserve\;">\, this event promises a welcoming and engaging atmosphere\, complete with refreshments and authentic barbecue by </span><span style="font-size: 12pt\; color: rgb(0\, 0\, 0)\; background-color: transparent\; font-weight: 700\; font-variant-numeric: normal\; font-variant-east-asian: normal\; font-variant-alternates: normal\; font-variant-position: normal\; font-variant-emoji: normal\; vertical-align: baseline\; white-space-collapse: preserve\;">The Smoking Swede</span><span style="font-size: 12pt\; color: rgb(0\, 0\, 0)\; background-color: transparent\; font-variant-numeric: normal\; font-variant-east-asian: normal\; font-variant-alternates: normal\; font-variant-position: normal\; font-variant-emoji: normal\; vertical-align: baseline\; white-space-collapse: preserve\;">. And of course\, no Swedish gathering is complete without something sweet! Our friends at </span><span style="font-size: 12pt\; color: rgb(0\, 0\, 0)\; background-color: transparent\; font-weight: 700\; font-variant-numeric: normal\; font-variant-east-asian: normal\; font-variant-alternates: normal\; font-variant-position: normal\; font-variant-emoji: normal\; vertical-align: baseline\; white-space-collapse: preserve\;">Fika &amp\; Candy</span><span style="font-size: 12pt\; color: rgb(0\, 0\, 0)\; background-color: transparent\; font-variant-numeric: normal\; font-variant-east-asian: normal\; font-variant-alternates: normal\; font-variant-position: normal\; font-variant-emoji: normal\; vertical-align: baseline\; white-space-collapse: preserve\;"> will introduce their brand and treat guests to a selection of authentic Swedish sweets.</span></span></span></p>\n\n<h3 dir="ltr" style="line-height:1.38\;margin-top:14pt\;margin-bottom:4pt\;"><span style="font-family:arial\;"><span style="font-size:16px\;"><span id="docs-internal-guid-53a8a506-7fff-630f-a0db-69971b54c543"><span style="color: rgb(0\, 0\, 0)\; background-color: transparent\; font-weight: 700\; font-variant-numeric: normal\; font-variant-east-asian: normal\; font-variant-alternates: normal\; font-variant-position: normal\; font-variant-emoji: normal\; vertical-align: baseline\; white-space-collapse: preserve\;">About Our Host &ndash\; Corporate Member Eleiko</span></span></span></span></h3>\n\n<p dir="ltr" style="line-height:1.38\;margin-top:12pt\;margin-bottom:12pt\;"><span style="font-family:arial\;"><span id="docs-internal-guid-53a8a506-7fff-630f-a0db-69971b54c543"><span style="font-size: 12pt\; color: rgb(0\, 0\, 0)\; background-color: transparent\; font-variant-numeric: normal\; font-variant-east-asian: normal\; font-variant-alternates: normal\; font-variant-position: normal\; font-variant-emoji: normal\; vertical-align: baseline\; white-space-collapse: preserve\;">Eleiko has been a global leader in strength training for over 60 years\, providing premium weightlifting and fitness equipment to athletes and training facilities worldwide. With a commitment to innovation\, quality\, and performance\, Eleiko empowers people to become stronger\, healthier\, and better through world-class equipment and education.</span></span></span></p>\n\n<h3 dir="ltr" style="line-height:1.38\;margin-top:14pt\;margin-bottom:4pt\;"><span style="font-family:arial\;"><span style="font-size:16px\;"><span id="docs-internal-guid-53a8a506-7fff-630f-a0db-69971b54c543"><span style="color: rgb(0\, 0\, 0)\; background-color: transparent\; font-weight: 700\; font-variant-numeric: normal\; font-variant-east-asian: normal\; font-variant-alternates: normal\; font-variant-position: normal\; font-variant-emoji: normal\; vertical-align: baseline\; white-space-collapse: preserve\;">Special Guest &ndash\; Siavosh Derakhti</span></span></span></span></h3>\n\n<div dir="ltr"><span style="font-family:arial\;"><span id="docs-internal-guid-53a8a506-7fff-630f-a0db-69971b54c543"><span style="font-size: 12pt\; color: rgb(0\, 0\, 0)\; background-color: transparent\; font-variant-numeric: normal\; font-variant-east-asian: normal\; font-variant-alternates: normal\; font-variant-position: normal\; font-variant-emoji: normal\; vertical-align: baseline\; white-space-collapse: preserve\;">During the evening\, we will hear from </span><span style="font-size: 12pt\; color: rgb(0\, 0\, 0)\; background-color: transparent\; font-weight: 700\; font-variant-numeric: normal\; font-variant-east-asian: normal\; font-variant-alternates: normal\; font-variant-position: normal\; font-variant-emoji: normal\; vertical-align: baseline\; white-space-collapse: preserve\;">Siavosh Derakhti</span><span style="font-size: 12pt\; color: rgb(0\, 0\, 0)\; background-color: transparent\; font-variant-numeric: normal\; font-variant-east-asian: normal\; font-variant-alternates: normal\; font-variant-position: normal\; font-variant-emoji: normal\; vertical-align: baseline\; white-space-collapse: preserve\;">\, an award-winning advocate for social change. Derakhti is not just a speaker - he&acute\;s a changemaker. As a young muslim growing up in Malm&ouml\;\, Sweden\, Derakhti witnessed firsthand how his childhood bestfriend\, who was jewish\, faced antisemitism from an early age. Years later\, while in highschool\, Derakhti saw antisemitism continue to rise - and he knew he had to act. Determined to make a difference\, he launched initiatives to &ldquo\;bridge cultural divides&rdquo\; among Malm&ouml\;s youth. Since then\, Derakhti has organized study trips and created opportunities for young people from diverse backgrounds to connect. He is the founder of a non-profit organization called UMAF that works against antisemitism and Xenophobia\, and has been featured in </span><span style="font-size: 12pt\; color: rgb(0\, 0\, 0)\; background-color: transparent\; font-weight: 700\; font-variant-numeric: normal\; font-variant-east-asian: normal\; font-variant-alternates: normal\; font-variant-position: normal\; font-variant-emoji: normal\; vertical-align: baseline\; white-space-collapse: preserve\;">Forbes Magazine</span><span style="font-size: 12pt\; color: rgb(0\, 0\, 0)\; background-color: transparent\; font-variant-numeric: normal\; font-variant-east-asian: normal\; font-variant-alternates: normal\; font-variant-position: normal\; font-variant-emoji: normal\; vertical-align: baseline\; white-space-collapse: preserve\;"> as one of the world&rsquo\;s most influential young leaders. Derakhti is also the first recipient of the newly established </span><span style="font-size: 12pt\; color: rgb(0\, 0\, 0)\; background-color: transparent\; font-weight: 700\; font-variant-numeric: normal\; font-variant-east-asian: normal\; font-variant-alternates: normal\; font-variant-position: normal\; font-variant-emoji: normal\; vertical-align: baseline\; white-space-collapse: preserve\;">ELSA award</span><span style="font-size: 12pt\; color: rgb(0\, 0\, 0)\; background-color: transparent\; font-variant-numeric: normal\; font-variant-east-asian: normal\; font-variant-alternates: normal\; font-variant-position: normal\; font-variant-emoji: normal\; vertical-align: baseline\; white-space-collapse: preserve\;"> and the inaugural </span><span style="font-size: 12pt\; color: rgb(0\, 0\, 0)\; background-color: transparent\; font-weight: 700\; font-variant-numeric: normal\; font-variant-east-asian: normal\; font-variant-alternates: normal\; font-variant-position: normal\; font-variant-emoji: normal\; vertical-align: baseline\; white-space-collapse: preserve\;">Raoul Wallenberg Prize</span><span style="font-size: 12pt\; color: rgb(0\, 0\, 0)\; background-color: transparent\; font-variant-numeric: normal\; font-variant-east-asian: normal\; font-variant-alternates: normal\; font-variant-position: normal\; font-variant-emoji: normal\; vertical-align: baseline\; white-space-collapse: preserve\;">. In his speech\, </span><span style="font-size: 12pt\; color: rgb(0\, 0\, 0)\; background-color: transparent\; font-weight: 700\; font-variant-numeric: normal\; font-variant-east-asian: normal\; font-variant-alternates: normal\; font-variant-position: normal\; font-variant-emoji: normal\; vertical-align: baseline\; white-space-collapse: preserve\;">&quot\;Courage and Commitment: Making a Difference in an Uncertain World\,&quot\;</span><span style="font-size: 12pt\; color: rgb(0\, 0\, 0)\; background-color: transparent\; font-variant-numeric: normal\; font-variant-east-asian: normal\; font-variant-alternates: normal\; font-variant-position: normal\; font-variant-emoji: normal\; vertical-align: baseline\; white-space-collapse: preserve\;"> Derakthi will share his inspiring journey and discuss the power of engagement\, diversity\, and leadership in today&rsquo\;s world.</span></span></span></div>\n\n<p dir="ltr" style="line-height:1.38\;margin-top:12pt\;margin-bottom:12pt\;"><span style="font-family:arial\;"><span id="docs-internal-guid-53a8a506-7fff-630f-a0db-69971b54c543"><span style="font-size: 12pt\; color: rgb(0\, 0\, 0)\; background-color: transparent\; font-variant-numeric: normal\; font-variant-east-asian: normal\; font-variant-alternates: normal\; font-variant-position: normal\; font-variant-emoji: normal\; vertical-align: baseline\; white-space-collapse: preserve\;">Please secure your spot by RSVPing promptly\, as availability is limited.</span></span></span></p>\n\n<p dir="ltr" style="line-height:1.38\;margin-top:12pt\;margin-bottom:12pt\;"><span style="font-family:arial\;"><span id="docs-internal-guid-53a8a506-7fff-630f-a0db-69971b54c543"><span style="font-size: 12pt\; color: rgb(0\, 0\, 0)\; background-color: transparent\; font-variant-numeric: normal\; font-variant-east-asian: normal\; font-variant-alternates: normal\; font-variant-position: normal\; font-variant-emoji: normal\; vertical-align: baseline\; white-space-collapse: preserve\;">&#128197\; </span><span style="font-size: 12pt\; color: rgb(0\, 0\, 0)\; background-color: transparent\; font-weight: 700\; font-variant-numeric: normal\; font-variant-east-asian: normal\; font-variant-alternates: normal\; font-variant-position: normal\; font-variant-emoji: normal\; vertical-align: baseline\; white-space-collapse: preserve\;">Date:</span><span style="font-size: 12pt\; color: rgb(0\, 0\, 0)\; background-color: transparent\; font-variant-numeric: normal\; font-variant-east-asian: normal\; font-variant-alternates: normal\; font-variant-position: normal\; font-variant-emoji: normal\; vertical-align: baseline\; white-space-collapse: preserve\;"> March 9th</span><br />\n<span style="font-size: 12pt\; color: rgb(0\, 0\, 0)\; background-color: transparent\; font-variant-numeric: normal\; font-variant-east-asian: normal\; font-variant-alternates: normal\; font-variant-position: normal\; font-variant-emoji: normal\; vertical-align: baseline\; white-space-collapse: preserve\;">&#128340\; </span><span style="font-size: 12pt\; color: rgb(0\, 0\, 0)\; background-color: transparent\; font-weight: 700\; font-variant-numeric: normal\; font-variant-east-asian: normal\; font-variant-alternates: normal\; font-variant-position: normal\; font-variant-emoji: normal\; vertical-align: baseline\; white-space-collapse: preserve\;">Time:</span><span style="font-size: 12pt\; color: rgb(0\, 0\, 0)\; background-color: transparent\; font-variant-numeric: normal\; font-variant-east-asian: normal\; font-variant-alternates: normal\; font-variant-position: normal\; font-variant-emoji: normal\; vertical-align: baseline\; white-space-collapse: preserve\;"> 5:00 - 7:00 p.m.</span><br />\n<span style="font-size: 12pt\; color: rgb(0\, 0\, 0)\; background-color: transparent\; font-variant-numeric: normal\; font-variant-east-asian: normal\; font-variant-alternates: normal\; font-variant-position: normal\; font-variant-emoji: normal\; vertical-align: baseline\; white-space-collapse: preserve\;">&#128205\; </span><span style="font-size: 12pt\; color: rgb(0\, 0\, 0)\; background-color: transparent\; font-weight: 700\; font-variant-numeric: normal\; font-variant-east-asian: normal\; font-variant-alternates: normal\; font-variant-position: normal\; font-variant-emoji: normal\; vertical-align: baseline\; white-space-collapse: preserve\;">Location:</span><span style="font-size: 12pt\; color: rgb(0\, 0\, 0)\; background-color: transparent\; font-variant-numeric: normal\; font-variant-east-asian: normal\; font-variant-alternates: normal\; font-variant-position: normal\; font-variant-emoji: normal\; vertical-align: baseline\; white-space-collapse: preserve\;"> Eleiko Sport Inc.\, 3910 S Industrial Dr Suite 100\, Austin\, Tx 78744</span></span></span></p>\n\n<p dir="ltr" style="line-height:1.38\;margin-top:12pt\;margin-bottom:12pt\;"><span style="font-family:arial\;"><span id="docs-internal-guid-53a8a506-7fff-630f-a0db-69971b54c543"><span style="font-size: 12pt\; color: rgb(0\, 0\, 0)\; background-color: transparent\; font-variant-numeric: normal\; font-variant-east-asian: normal\; font-variant-alternates: normal\; font-variant-position: normal\; font-variant-emoji: normal\; vertical-align: baseline\; white-space-collapse: preserve\;">We look forward to seeing you there!</span></span></span><br />\n&nbsp\;</p>\n\n<div>&nbsp\;</div>\n
LOCATION:Eleiko Sport Inc.\, 3910 S Industrial Dr Suite 100\, Austin\, Tx 78744
UID:e.1936.4949
SEQUENCE:3
DTSTAMP:20260420T041425Z
URL:https://chamber.sacctx.com/events/details/sacc-austin-sxsw-event-4949
END:VEVENT

END:VCALENDAR
