BEGIN:VCALENDAR
VERSION:2.0
PRODID:-//ChamberMaster//Event Calendar 2.0//EN
METHOD:PUBLISH
X-PUBLISHED-TTL:P3D
REFRESH-INTERVAL:P3D
CALSCALE:GREGORIAN
BEGIN:VEVENT
DTSTART:20250404T230000Z
DTEND:20250405T010000Z
X-MICROSOFT-CDO-ALLDAYEVENT:FALSE
SUMMARY:SACC Austin x SWEA: Wine Tasting
DESCRIPTION:SWEA X SACC Austin: You're Invited to a French Wine Tasting Experience!   \n\nJoin us for an evening of fine wine and great company as we explore different grape varieties with a wine expert from Total Wine. You'll be guided through a tasting of French wines\, learning about their unique characteristics and origins.\n\nBread and light bites will be provided.\n\n  Date: April 4th\n\n  Time: 6:00 PM - 8:00 PM\n\n  Location: Total Wine Arboretum\, 10001 Research Blvd.\n\n  Price: $20 (payable at the door)\n\nThere are only 32 spots available\, so secure yours now! RSVP by March 31st to kathyskold@live.com.\n\nWe can't wait to share this wonderful experience with you see you there!
X-ALT-DESC;FMTTYPE=text/html:<p data-end="61" data-start="0"><span style="font-size:20px\;"><span style="font-family:tahoma\;"><strong data-end="55" data-start="0">SWEA X&nbsp\;SACC Austin: You&#39\;re Invited to a French Wine Tasting Experience!</strong> &#127863\;&#10024\;</span></span></p>\n\n<p data-end="313" data-start="63"><span style="font-size:16px\;"><span style="font-family:tahoma\;">Join us for an evening of fine wine and great company as we explore different grape varieties with a wine expert from Total Wine. You&rsquo\;ll be guided through a tasting of French wines\, learning about their unique characteristics and origins.</span></span></p>\n\n<p data-end="366" data-start="315"><span style="font-size:16px\;"><span style="font-family:tahoma\;">Bread and light bites will be provided.</span></span></p>\n\n<p data-end="529" data-start="368"><span style="font-size:16px\;"><span style="font-family:tahoma\;">&#128197\; <strong data-end="380" data-start="371">Date:</strong> April 4th<br data-end="393" data-start="390" />\n&#128341\; <strong data-end="405" data-start="396">Time:</strong> 6:00 PM - 8:00 PM<br data-end="426" data-start="423" />\n&#128205\; <strong data-end="442" data-start="429">Location:</strong> Total Wine Arboretum\, 10001 Research Blvd.<br data-end="488" data-start="485" />\n&#128178\; <strong data-end="501" data-start="491">Price:</strong> $20 (payable at the door)</span></span></p>\n\n<p data-end="643" data-start="531"><span style="font-size:16px\;"><span style="font-family:tahoma\;">There are only <strong data-end="568" data-start="546">32 spots available</strong>\, so secure yours now! RSVP by <strong data-end="613" data-start="599">March 31st</strong> to <strong data-end="640" data-start="617"><a data-end="638" data-start="619" rel="noopener">kathyskold@live.com</a></strong>.</span></span></p>\n\n<p data-end="720" data-is-last-node="" data-start="645"><span style="font-size:16px\;"><span style="font-family:tahoma\;">We can&#39\;t wait to share this wonderful experience with you&mdash\;see you there!&nbsp\;</span></span></p>\n
LOCATION:Total Wine Arboretum\, 10001 Research Blvd
UID:e.1936.4957
SEQUENCE:3
DTSTAMP:20260419T181352Z
URL:https://chamber.sacctx.com/events/details/sacc-austin-x-swea-wine-tasting-4957
END:VEVENT

END:VCALENDAR
