BEGIN:VCALENDAR
VERSION:2.0
PRODID:-//ChamberMaster//Event Calendar 2.0//EN
METHOD:PUBLISH
X-PUBLISHED-TTL:P3D
REFRESH-INTERVAL:P3D
CALSCALE:GREGORIAN
BEGIN:VEVENT
DTSTART:20260910T163000Z
DTEND:20260910T180000Z
X-MICROSOFT-CDO-ALLDAYEVENT:FALSE
SUMMARY:SACC Dallas: Autumn Business Luncheon | IKEA Frisco
DESCRIPTION:
X-ALT-DESC;FMTTYPE=text/html:
LOCATION:
UID:e.1936.5002
SEQUENCE:3
DTSTAMP:20260422T100046Z
URL:https://chamber.sacctx.com/events/details/sacc-dallas-autumn-business-luncheon-ikea-frisco-5002
END:VEVENT

END:VCALENDAR
