BEGIN:VCALENDAR
VERSION:2.0
PRODID:-//ChamberMaster//Event Calendar 2.0//EN
METHOD:PUBLISH
X-PUBLISHED-TTL:P3D
REFRESH-INTERVAL:P3D
CALSCALE:GREGORIAN
BEGIN:VEVENT
DTSTART:20250427T000000Z
DTEND:20250427T020000Z
X-MICROSOFT-CDO-ALLDAYEVENT:FALSE
SUMMARY:SACC Dallas: Sweden vs. USA in U18 Hockey World Championship
DESCRIPTION:Ticket sales have now closed\n\n\n\nWe are happy to announce that The Dallas Stars will be hosting the IIHF U-18 Men's World Championship from April 23rd - May 3rd at the Comerica Center in Frisco and in Allen at Credit Union of Texas Event Center. The IIHF U-18 Men's Would Championship has only been held in the United States on three previous occasions\, so this is a unique opportunity you won't want to miss. \n\n\n\nTeam Sweden will be playing all games at the Comerica Center. Alongside them\, the USA\, Canada\, Slovakia\, Finland\, Czechia\, Latvia\, Switzerland\, Norway\, and Germany are competing in this 10-nation tournament. IIHF alumni include current Swedish NHL players such as Mika Zibanejad\, William Nylander\, Erik Karlsson\, Leo Carlsson\, Jesper Brat\, and Elias Petterson\, all of whom were recently competing in the NHL 4 Nations Face-off. \n\n\n\nThe Dallas Stars are offering us discounted tickets at $15 each to the USA vs Sweden game on April 26th at 7 PM at the Comerica Center in Frisco!\n\n\n\n\n\nBench warmer - At the end of the game\, all SACC members will head down to the bench and a photo will be taken of our group!
X-ALT-DESC;FMTTYPE=text/html:<span style="font-size:14px\;"><em><span style="color:#FF0000\;"><strong style="font-size: 16px\;"><u>Ticket sales have now closed</u></strong></span></em></span><br />\n<br />\n<span style="font-size: 16px\;">We are happy to announce that The Dallas Stars will be hosting the I</span><strong style="font-size: 16px\;">IHF U-18 Men&rsquo\;s World Championship</strong><span style="font-size: 16px\;">&nbsp\;from&nbsp\;</span><strong style="font-size: 16px\;">April 23rd - May 3rd&nbsp\;</strong><span style="font-size: 16px\;">at the&nbsp\;</span><u style="font-size: 16px\;">Comerica Center in Frisco</u><span style="font-size: 16px\;">&nbsp\;and in&nbsp\;</span><u style="font-size: 16px\;">Allen at Credit Union of Texas Event Center</u><span style="font-size: 16px\;">. The IIHF U-18 Men&rsquo\;s Would Championship has only been held in the United States on three previous occasions\, so this is a unique opportunity you won&rsquo\;t want to miss.&nbsp\;</span><br style="font-size: 16px\;" />\n<br style="font-size: 16px\;" />\n<span style="font-size: 16px\;">Team Sweden will be playing all games at the Comerica Center. Alongside them\, the USA\, Canada\, Slovakia\, Finland\, Czechia\, Latvia\, Switzerland\, Norway\, and Germany are competing in this 10-nation tournament. IIHF alumni include current Swedish NHL players such as&nbsp\;</span><u style="font-size: 16px\;">Mika Zibanejad\, William Nylander\, Erik Karlsson\, Leo Carlsson\, Jesper Brat\,</u><span style="font-size: 16px\;">&nbsp\;and&nbsp\;</span><u style="font-size: 16px\;">Elias Petterson</u><span style="font-size: 16px\;">\, all of whom were recently competing in the&nbsp\;</span><strong style="font-size: 16px\;">NHL 4 Nations Face-off</strong><span style="font-size: 16px\;">.&nbsp\;</span><br style="font-size: 16px\;" />\n<br style="font-size: 16px\;" />\n<span style="font-size: 16px\;">The Dallas Stars are offering us&nbsp\;</span><strong style="font-size: 16px\;">discounted tickets at $15 each</strong><span style="font-size: 16px\;">&nbsp\;to the&nbsp\;</span><strong style="font-size: 16px\;"><u>USA vs Sweden game on April 26th at 7 PM</u></strong><u style="font-size: 16px\;">&nbsp\;at the Comerica Center in Frisco!</u><br style="font-size: 16px\;" />\n<br style="font-size: 16px\;" />\n<br style="font-size: 16px\;" />\n<span style="font-size: 16px\;">Bench warmer - At the end of the game\, all SACC members will head down to the bench and a photo will be taken of our group!</span>
LOCATION:Comerica Center in Frisco\, 2601 Avenue of the Stars\, Frisco\, TX 75034
UID:e.1936.4953
SEQUENCE:3
DTSTAMP:20260420T024947Z
URL:https://chamber.sacctx.com/events/details/sacc-dallas-sweden-vs-usa-in-u18-hockey-world-championship-4953
END:VEVENT

END:VCALENDAR
