BEGIN:VCALENDAR
VERSION:2.0
PRODID:-//ChamberMaster//Event Calendar 2.0//EN
METHOD:PUBLISH
X-PUBLISHED-TTL:P3D
REFRESH-INTERVAL:P3D
CALSCALE:GREGORIAN
BEGIN:VEVENT
DTSTART:20250219T003000Z
DTEND:20250219T030000Z
X-MICROSOFT-CDO-ALLDAYEVENT:FALSE
SUMMARY:SACC Dallas: Taking children abroad – What happens when parents disagree?
DESCRIPTION:Taking children abroad   What happens when parents disagree?\n\n\n\nDuane Morris attorneys Joakim Soederbaum and Ramsey Schultz will discuss issues that arise when the parents disagree to what country a child may travel or in what country a child may stay\, including the framework established under the Hague Convention for the prompt return of children who have been taken across borders without consent.\n\n\n\nThey will also apply that framework to a real-life example: Since 2023\, as part of Duane Morris's extensive pro bono program\, Joakim and Ramsey have represented a Venezuelan mother in her efforts to keep her young daughter in the United States\, whom she brought here after the father moved to Spain.\n\n\n \n\n\nWelcome\n\n \n\nPatrik Melander\n\nChairman\, Swedish American Chamber DFW
X-ALT-DESC;FMTTYPE=text/html:<div style="caret-color: rgb(0\, 0\, 0)\; color: rgb(0\, 0\, 0)\; font-family: Helvetica\; font-size: 14px\;"><span style="font-size:14px\;"><strong><em>Taking children abroad &ndash\; What happens when parents disagree?</em></strong></span></div>\n\n<div style="caret-color: rgb(0\, 0\, 0)\; color: rgb(0\, 0\, 0)\; font-family: Helvetica\; font-size: 14px\;"><br />\nDuane Morris attorneys Joakim Soederbaum and Ramsey Schultz will discuss issues that arise when the parents disagree to what country a child may travel or in what country a child may stay\, including the framework established under the Hague Convention for the prompt return of children who have been taken across borders without consent.<br />\n<br />\nThey will also apply that framework to a real-life example: Since 2023\, as part of Duane Morris&rsquo\;s extensive pro bono program\, Joakim and Ramsey have represented a Venezuelan mother in her efforts to keep her young daughter in the United States\, whom she brought here after the father moved to Spain.</div>\n\n<div style="caret-color: rgb(0\, 0\, 0)\; color: rgb(0\, 0\, 0)\; font-family: Helvetica\; font-size: 14px\;">\n<div>&nbsp\;</div>\n\n<div>\n<div style="caret-color: rgb(0\, 0\, 0)\; color: rgb(0\, 0\, 0)\; font-family: Helvetica\; font-size: 14px\;">Welcome</div>\n\n<div style="caret-color: rgb(0\, 0\, 0)\; color: rgb(0\, 0\, 0)\; font-family: Helvetica\; font-size: 14px\;">&nbsp\;</div>\n\n<div style="caret-color: rgb(0\, 0\, 0)\; color: rgb(0\, 0\, 0)\; font-family: Helvetica\; font-size: 14px\;">Patrik Melander</div>\n\n<div style="caret-color: rgb(0\, 0\, 0)\; color: rgb(0\, 0\, 0)\; font-family: Helvetica\; font-size: 14px\;">Chairman\, Swedish American Chamber DFW</div>\n</div>\n</div>\n
LOCATION:Duane Morris LLP 100 Crescent Court\, Suite 1200 (i.e. 12th Floor) Dallas\, TX 75201
UID:e.1936.4946
SEQUENCE:3
DTSTAMP:20260420T070828Z
URL:https://chamber.sacctx.com/events/details/sacc-dallas-taking-children-abroad-what-happens-when-parents-disagree-4946
END:VEVENT

END:VCALENDAR
