BEGIN:VCALENDAR
VERSION:2.0
PRODID:-//ChamberMaster//Event Calendar 2.0//EN
METHOD:PUBLISH
X-PUBLISHED-TTL:P3D
REFRESH-INTERVAL:P3D
CALSCALE:GREGORIAN
BEGIN:VEVENT
DTSTART:20250430T170000Z
DTEND:20250430T180000Z
X-MICROSOFT-CDO-ALLDAYEVENT:FALSE
SUMMARY:SACC Dallas: Taking Children Abroad - What Happens When Parents Disagree?
DESCRIPTION:Taking Children Abroad - What Happens When Parents Disagree? And Does It Matter Why? \n\n\n\nDuane Morris attorneys Joakim Soederbaum and Ramsey Schultz will discuss the legal framework established under The Hague Convention for the prompt return of children who have been taken across borders or kept abroad without both parents  consent. \n\n\n\nThe system is designed\, and provides legal assistance\, to promote the prompt return of children\, but exceptions exist to protect the children from dangers such as domestic violence. Joakim and Ramsey will discuss these exceptions and the resources available for a parent seeking to protect a child that has been taken to the United States. \n\n\n\nThey will also share a real-life example. Since 2023\, as part of Duane Morris s extensive pro bono program\, Joakim and Ramsey have represented a Venezuelan mother in her efforts to keep her young daughter in the United States\, whom she brought here after the father moved to Spain. \n\n\n\nRegister here: https://duanemorris.zoom.us/webinar/register/WN_xa6S21sZSYaByz7rrQuSFw
X-ALT-DESC;FMTTYPE=text/html:<span style="font-size:16px\;"><span style="font-size:18px\;"><strong>Taking Children Abroad - What Happens When Parents Disagree? And Does It Matter Why?&nbsp\;</strong></span><br />\n<br />\nDuane Morris attorneys Joakim Soederbaum and Ramsey Schultz will discuss the legal framework established under The Hague Convention for the prompt return of children who have been taken across borders or kept abroad without both parents&acute\; consent.&nbsp\;<br />\n<br />\nThe system is designed\, and provides legal assistance\, to promote the prompt return of children\, but exceptions exist to protect the children from dangers such as domestic violence. Joakim and Ramsey will discuss these exceptions and the resources available for a parent seeking to protect a child that has been taken to the United States.&nbsp\;<br />\n<br />\nThey will also share a real-life example. Since 2023\, as part of Duane Morris&acute\;s extensive pro bono program\, Joakim and Ramsey have represented a Venezuelan mother in her efforts to keep her young daughter in the United States\, whom she brought here after the father moved to Spain.&nbsp\;<br />\n<br />\n<span style="font-family: &quot\;Open Sans&quot\;\, Arial\, sans-serif\;">Register here:&nbsp\;</span><a href="https://duanemorris.zoom.us/webinar/register/WN_xa6S21sZSYaByz7rrQuSFw" style="box-sizing: border-box\; text-decoration-line: none\; transition: background-color 150ms linear\, color 150ms linear\; border: none\; padding: 0px\; margin: 0px\; color: blue\; overflow-wrap: break-word\; font-family: Aptos\, sans-serif\; font-size: 16px\;" target="_blank">https://duanemorris.zoom.us/webinar/register/WN_xa6S21sZSYaByz7rrQuSFw</a></span>
LOCATION:Online Webinar
UID:e.1936.4967
SEQUENCE:3
DTSTAMP:20260420T025421Z
URL:https://chamber.sacctx.com/events/details/sacc-dallas-taking-children-abroad-what-happens-when-parents-disagree-4967
END:VEVENT

END:VCALENDAR
