BEGIN:VCALENDAR
VERSION:2.0
PRODID:-//ChamberMaster//Event Calendar 2.0//EN
METHOD:PUBLISH
X-PUBLISHED-TTL:P3D
REFRESH-INTERVAL:P3D
CALSCALE:GREGORIAN
BEGIN:VEVENT
DTSTART;VALUE=DATE:20250514
DTEND;VALUE=DATE:20250516
TRANSP:TRANSPARENT
X-MICROSOFT-CDO-ALLDAYEVENT:TRUE
SUMMARY:SACC Dallas: Transforming Business through Purpose-Driven Innovation\, DFW Innovation Days 2025 at Slalom
DESCRIPTION:The pace of change is accelerating - are you positioned to lead it?\n\n \n\nSACC Dallas members have received an exclusive invitation to join Slalom for their DFW Innovation Days 2025 - an interactive\, open house-style showcase designed for senior business and technology leaders driving innovation and business transformation. \n\nWith 15+ interactive exhibits on emerging technologies\, this is your opportunity to \n\n \n\n\n	\n	Build an adaptive organization to navigate complex change with agility and resilience.\n	\n	\n	Reclaim technical debt and modernize your legacy systems\, transforming your technology foundation.\n	\n	\n	Boost creativity\, productivity\, and innovation by learning how to harness AI.\n	\n	\n	Connect with industry leaders to gain practical\, real-world insights into how they are moving beyond AI adoption and scaling AI initiatives.\n	\n\n\n \n\nWe're offering three convenient time slots over two days\, giving you the flexibility to explore the exhibits at your own pace. Choose the date and time that works best for you.\n\n \n\n\n	Location: Slalom DFW Office | 5430 LBJ Freeway\, Suite 1200\, Dallas\, TX 75240\n\n\n \n\n\n	Dates: Wednesday\, May 14th & Thursday\, May 15th\n\n\n \n\n\n	Exhibit Time Slots Offered:\n\n	\n		Wednesday\, May 14th\n\n		\n			10:00 AM-12:00 PM\n			2:00 PM-4:00 PM\n		\n		\n		Thursday\, May 15th \n		\n			10:00 AM-12:00 PM\n		\n		\n	\n	\n\n\n \n\n\n	Panel Discussion: The Future-Proof Enterprise: Adapting\, Innovating\, and Thriving\n\n	\n		Wednesday\, May 14th | 8:30 AM-9:30 AM\n		Thursday\, May 15th | 8:30 AM-9:30 AM\n		\n		Breakfast will be provided\n		\n	\n	\n\n\n \n\nSecure your spot here:\n\nhttps://go.slalom.com/dfwid25
X-ALT-DESC;FMTTYPE=text/html:<div class="x_1638984211elementToProof" style="color: rgb(0\, 0\, 0)\; font-family: Aptos\, Aptos_EmbeddedFont\, Aptos_MSFontService\, Calibri\, Helvetica\, sans-serif\; font-size: 12pt\;"><span style="font-size:16px\;"><b><i>The pace of change is accelerating - are you&nbsp\;positioned to&nbsp\;lead it?</i></b></span></div>\n\n<div class="x_1638984211elementToProof" style="color: rgb(0\, 0\, 0)\; line-height: 1.6\; margin: 0px\; font-family: Aptos\, Aptos_EmbeddedFont\, Aptos_MSFontService\, Calibri\, Helvetica\, sans-serif\; font-size: 12pt\;">&nbsp\;</div>\n\n<div class="x_1638984211elementToProof" style="color: rgb(0\, 0\, 0)\; line-height: 1.6\; margin: 0px\; font-family: Aptos\, Aptos_EmbeddedFont\, Aptos_MSFontService\, Calibri\, Helvetica\, sans-serif\; font-size: 12pt\;"><span style="font-size:16px\;">SACC Dallas members have received an exclusive invitation to join Slalom for their&nbsp\;<b>DFW Innovation Days 2025&nbsp\;</b>-&nbsp\;an interactive\, open house-style showcase designed for senior business and technology leaders driving innovation and business transformation.&nbsp\;</span></div>\n\n<div class="x_1638984211elementToProof" style="color: rgb(0\, 0\, 0)\; line-height: 1.6\; margin: 0px\; font-family: Aptos\, Aptos_EmbeddedFont\, Aptos_MSFontService\, Calibri\, Helvetica\, sans-serif\; font-size: 12pt\;"><span style="font-size:16px\;">With 15+ interactive exhibits on emerging technologies\, this is your opportunity to&hellip\;</span></div>\n\n<div class="x_1638984211elementToProof" style="color: rgb(0\, 0\, 0)\; line-height: 1.6\; margin: 0px\; font-family: Aptos\, Aptos_EmbeddedFont\, Aptos_MSFontService\, Calibri\, Helvetica\, sans-serif\; font-size: 12pt\;">&nbsp\;</div>\n\n<ul style="color: rgb(0\, 0\, 0)\; font-family: &quot\;Lato 2&quot\;\, sans-serif\, system-ui\, -apple-system\, &quot\;Segoe UI&quot\;\, Roboto\, Ubuntu\, Cantarell\, &quot\;Noto Sans&quot\;\, sans-serif\; font-size: 14px\; margin: 0px\; padding-left: 2rem\;">\n	<li style="font-family: Aptos\, Aptos_EmbeddedFont\, Aptos_MSFontService\, Calibri\, Helvetica\, sans-serif\; font-size: 12pt\; line-height: 1.6\; margin: 0px\;">\n	<div class="x_1638984211elementToProof" style="line-height: 1.6\; margin: 0px\;"><span style="font-size:16px\;"><b><i>Build</i></b>&nbsp\;an adaptive organization to navigate complex change with agility and resilience.</span></div>\n	</li>\n	<li style="font-family: Aptos\, Aptos_EmbeddedFont\, Aptos_MSFontService\, Calibri\, Helvetica\, sans-serif\; font-size: 12pt\; line-height: 1.6\; margin: 0px\;">\n	<div class="x_1638984211elementToProof" style="line-height: 1.6\; margin: 0px\;"><span style="font-size:16px\;"><b><i>Reclaim</i></b>&nbsp\;technical debt and modernize your legacy systems\, transforming your technology foundation.</span></div>\n	</li>\n	<li style="font-family: Aptos\, Aptos_EmbeddedFont\, Aptos_MSFontService\, Calibri\, Helvetica\, sans-serif\; font-size: 12pt\; line-height: 1.6\; margin: 0px\;">\n	<div class="x_1638984211elementToProof" style="line-height: 1.6\; margin: 0px\;"><span style="font-size:16px\;"><b><i>Boost</i></b>&nbsp\;creativity\, productivity\, and innovation by learning how to harness AI.</span></div>\n	</li>\n	<li style="font-family: Aptos\, Aptos_EmbeddedFont\, Aptos_MSFontService\, Calibri\, Helvetica\, sans-serif\; font-size: 12pt\; line-height: 1.6\; margin: 0px\;">\n	<div class="x_1638984211elementToProof" style="line-height: 1.6\; margin: 0px\;"><span style="font-size:16px\;"><b><i>Connect</i></b>&nbsp\;with industry leaders to gain practical\, real-world insights into how they are moving beyond AI adoption and scaling AI initiatives.</span></div>\n	</li>\n</ul>\n\n<div class="x_1638984211elementToProof" style="color: rgb(0\, 0\, 0)\; line-height: 1.6\; margin: 0px\; font-family: Aptos\, Aptos_EmbeddedFont\, Aptos_MSFontService\, Calibri\, Helvetica\, sans-serif\; font-size: 12pt\;">&nbsp\;</div>\n\n<div class="x_1638984211elementToProof" style="color: rgb(0\, 0\, 0)\; line-height: 1.6\; margin: 0px\; font-family: Aptos\, Aptos_EmbeddedFont\, Aptos_MSFontService\, Calibri\, Helvetica\, sans-serif\; font-size: 12pt\;"><span style="font-size:16px\;">We&rsquo\;re offering three convenient time slots over two days\, giving you the flexibility to explore the exhibits at your own pace. Choose the date and time that works best for you.</span></div>\n\n<div class="x_1638984211elementToProof" style="color: rgb(0\, 0\, 0)\; font-family: Aptos\, Aptos_EmbeddedFont\, Aptos_MSFontService\, Calibri\, Helvetica\, sans-serif\; font-size: 12pt\;">&nbsp\;</div>\n\n<ul style="color: rgb(0\, 0\, 0)\; font-family: &quot\;Lato 2&quot\;\, sans-serif\, system-ui\, -apple-system\, &quot\;Segoe UI&quot\;\, Roboto\, Ubuntu\, Cantarell\, &quot\;Noto Sans&quot\;\, sans-serif\; font-size: 14px\; margin: 0px\; padding-left: 2rem\;">\n	<li style="font-family: Aptos\, Aptos_EmbeddedFont\, Aptos_MSFontService\, Calibri\, Helvetica\, sans-serif\; font-size: 12pt\; line-height: 1.6\; margin: 0px\;"><span style="font-size:16px\;"><b>Location:&nbsp\;</b><span style="color: rgb(12\, 98\, 251)\;"><a class="x_1638984211OWAAutoLink" href="https://www.google.com/maps/place/Slalom+Consulting/data=!4m2!3m1!1s0x0:0x7c036a6c62dff530?sa=X&amp\;ved=1t:2428&amp\;ictx=111" id="x_1638984211OWAe3c58f55-a758-af4a-da37-afc2260db8d2" style="color: rgb(12\, 98\, 251)\; margin: 0px\;" target="_blank">Slalom DFW Office</a></span>&nbsp\;| 5430 LBJ Freeway\, Suite 1200\, Dallas\, TX 75240</span></li>\n</ul>\n\n<div style="font-family: Aptos\, Aptos_EmbeddedFont\, Aptos_MSFontService\, Calibri\, Helvetica\, sans-serif\; font-size: 12pt\; line-height: 1.6\; margin: 0px\;">&nbsp\;</div>\n\n<ul style="color: rgb(0\, 0\, 0)\; font-family: &quot\;Lato 2&quot\;\, sans-serif\, system-ui\, -apple-system\, &quot\;Segoe UI&quot\;\, Roboto\, Ubuntu\, Cantarell\, &quot\;Noto Sans&quot\;\, sans-serif\; font-size: 14px\; margin: 0px\; padding-left: 2rem\;">\n	<li style="font-family: Aptos\, Aptos_EmbeddedFont\, Aptos_MSFontService\, Calibri\, Helvetica\, sans-serif\; font-size: 12pt\; line-height: 1.6\; margin: 0px\;"><span style="font-size:16px\;"><b>Dates:&nbsp\;</b><span aria-haspopup="true" aria-label="Add a task\, event\, or reminder for Wednesday\, May 14th" class="zm_inLnk" data-value="2025-05-14 12:00:00" role="button" style="border-bottom: 1px dashed rgb(85\, 85\, 85)\; cursor: pointer\; line-height: 1\; transition: all 0.3s ease 0s\;" tabindex="0">Wednesday\, May 14th</span>&nbsp\;&amp\;&nbsp\;<span aria-haspopup="true" aria-label="Add a task\, event\, or reminder for Thursday\, May 15th" class="zm_inLnk" data-value="2025-05-15 12:00:00" role="button" style="border-bottom: 1px dashed rgb(85\, 85\, 85)\; cursor: pointer\; line-height: 1\; transition: all 0.3s ease 0s\;" tabindex="0">Thursday\, May 15th</span></span></li>\n</ul>\n\n<div style="font-family: Aptos\, Aptos_EmbeddedFont\, Aptos_MSFontService\, Calibri\, Helvetica\, sans-serif\; font-size: 12pt\; line-height: 1.6\; margin: 0px\;">&nbsp\;</div>\n\n<ul style="color: rgb(0\, 0\, 0)\; font-family: &quot\;Lato 2&quot\;\, sans-serif\, system-ui\, -apple-system\, &quot\;Segoe UI&quot\;\, Roboto\, Ubuntu\, Cantarell\, &quot\;Noto Sans&quot\;\, sans-serif\; font-size: 14px\; margin: 0px\; padding-left: 2rem\;">\n	<li style="font-family: Aptos\, Aptos_EmbeddedFont\, Aptos_MSFontService\, Calibri\, Helvetica\, sans-serif\; font-size: 12pt\; line-height: 1.6\; margin: 0px\;"><span style="font-size:16px\;"><b>Exhibit Time Slots Offered:</b></span>\n\n	<ul style="margin: 0px\; padding-left: 2rem\;">\n		<li style="font-family: Aptos\, Aptos_EmbeddedFont\, Aptos_MSFontService\, Calibri\, Helvetica\, sans-serif\; font-size: 12pt\; line-height: 1.6\; margin: 0px\;"><span style="font-size:16px\;"><span aria-haspopup="true" aria-label="Add a task\, event\, or reminder for Wednesday\, May 14th" class="zm_inLnk" data-value="2025-05-14 12:00:00" role="button" style="border-bottom: 1px dashed rgb(85\, 85\, 85)\; cursor: pointer\; line-height: 1\; transition: all 0.3s ease 0s\;" tabindex="0">Wednesday\, May 14th</span></span>\n\n		<ul style="margin: 0px\; padding-left: 2rem\;">\n			<li style="font-family: Aptos\, Aptos_EmbeddedFont\, Aptos_MSFontService\, Calibri\, Helvetica\, sans-serif\; font-size: 12pt\; line-height: 1.6\; margin: 0px\;"><span style="font-size:16px\;">10:00 AM-12:00 PM</span></li>\n			<li style="font-family: Aptos\, Aptos_EmbeddedFont\, Aptos_MSFontService\, Calibri\, Helvetica\, sans-serif\; font-size: 12pt\; line-height: 1.6\; margin: 0px\;"><span style="font-size:16px\;">2:00 PM-4:00 PM</span></li>\n		</ul>\n		</li>\n		<li style="font-family: Aptos\, Aptos_EmbeddedFont\, Aptos_MSFontService\, Calibri\, Helvetica\, sans-serif\; font-size: 12pt\; line-height: 1.6\; margin: 0px\;"><span style="font-size:16px\;"><span aria-haspopup="true" aria-label="Add a task\, event\, or reminder for Thursday\, May 15th" class="zm_inLnk" data-value="2025-05-15 12:00:00" role="button" style="border-bottom: 1px dashed rgb(85\, 85\, 85)\; cursor: pointer\; line-height: 1\; transition: all 0.3s ease 0s\;" tabindex="0">Thursday\, May 15th</span>&nbsp\;</span>\n		<ul style="margin: 0px\; padding-left: 2rem\;">\n			<li style="font-family: Aptos\, Aptos_EmbeddedFont\, Aptos_MSFontService\, Calibri\, Helvetica\, sans-serif\; font-size: 12pt\; line-height: 1.6\; margin: 0px\;"><span style="font-size:16px\;">10:00 AM-12:00 PM</span></li>\n		</ul>\n		</li>\n	</ul>\n	</li>\n</ul>\n\n<div style="font-family: Aptos\, Aptos_EmbeddedFont\, Aptos_MSFontService\, Calibri\, Helvetica\, sans-serif\; font-size: 12pt\; line-height: 1.6\; margin: 0px\;">&nbsp\;</div>\n\n<ul style="color: rgb(0\, 0\, 0)\; font-family: &quot\;Lato 2&quot\;\, sans-serif\, system-ui\, -apple-system\, &quot\;Segoe UI&quot\;\, Roboto\, Ubuntu\, Cantarell\, &quot\;Noto Sans&quot\;\, sans-serif\; font-size: 14px\; margin: 0px\; padding-left: 2rem\;">\n	<li style="font-family: Aptos\, Aptos_EmbeddedFont\, Aptos_MSFontService\, Calibri\, Helvetica\, sans-serif\; font-size: 12pt\; line-height: 1.6\; margin: 0px\;"><span style="font-size:16px\;"><b>Panel Discussion:</b>&nbsp\;The Future-Proof Enterprise: Adapting\, Innovating\, and Thriving</span>\n\n	<ul style="margin: 0px\; padding-left: 2rem\;">\n		<li style="font-family: Aptos\, Aptos_EmbeddedFont\, Aptos_MSFontService\, Calibri\, Helvetica\, sans-serif\; font-size: 12pt\; line-height: 1.6\; margin: 0px\;"><span style="font-size:16px\;">Wednesday\, May 14th&nbsp\;| 8:30 AM-9:30 AM</span></li>\n		<li style="font-family: Aptos\, Aptos_EmbeddedFont\, Aptos_MSFontService\, Calibri\, Helvetica\, sans-serif\; font-size: 12pt\; line-height: 1.6\; margin: 0px\;"><span style="font-size:16px\;">Thursday\, May 15th | 8:30 AM-9:30 AM</span></li>\n		<li style="font-family: Aptos\, Aptos_EmbeddedFont\, Aptos_MSFontService\, Calibri\, Helvetica\, sans-serif\; font-size: 12pt\; line-height: 1.6\; margin: 0px\;">\n		<div class="x_1638984211elementToProof"><span style="font-size:16px\;"><i>Breakfast will be provided</i></span></div>\n		</li>\n	</ul>\n	</li>\n</ul>\n\n<div class="x_1638984211elementToProof" style="color: rgb(0\, 0\, 0)\; font-family: Aptos\, Aptos_EmbeddedFont\, Aptos_MSFontService\, Calibri\, Helvetica\, sans-serif\; font-size: 12pt\;">&nbsp\;</div>\n\n<div class="x_1638984211elementToProof" style="color: rgb(0\, 0\, 0)\; font-family: Aptos\, Aptos_EmbeddedFont\, Aptos_MSFontService\, Calibri\, Helvetica\, sans-serif\; font-size: 12pt\;"><span style="font-size:16px\;">Secure your spot here:</span></div>\n\n<div class="x_1638984211elementToProof" style="color: rgb(0\, 0\, 0)\; font-family: Aptos\, Aptos_EmbeddedFont\, Aptos_MSFontService\, Calibri\, Helvetica\, sans-serif\; font-size: 12pt\;"><span style="font-size:16px\;"><a class="x_1638984211OWAAutoLink" href="https://go.slalom.com/dfwid25" id="x_1638984211OWAdb78b5f7-b8f4-fb46-85da-0a064c03bded" target="_blank">https://go.slalom.com/dfwid25</a></span></div>\n
LOCATION:Slalom DFW Office | 5430 LBJ Freeway\, Suite 1200\, Dallas\, TX 75240
UID:e.1936.4969
SEQUENCE:3
DTSTAMP:20260420T010340Z
URL:https://chamber.sacctx.com/events/details/sacc-dallas-transforming-business-through-purpose-driven-innovation-dfw-innovation-days-2025-at-slalom-4969
END:VEVENT

END:VCALENDAR
