BEGIN:VCALENDAR
VERSION:2.0
PRODID:-//ChamberMaster//Event Calendar 2.0//EN
METHOD:PUBLISH
X-PUBLISHED-TTL:P3D
REFRESH-INTERVAL:P3D
CALSCALE:GREGORIAN
BEGIN:VEVENT
DTSTART:20250327T230000Z
DTEND:20250328T010000Z
X-MICROSOFT-CDO-ALLDAYEVENT:FALSE
SUMMARY:SACC Houston: Nordic Business Mingle in Houston
DESCRIPTION:Join Us for the Nordic Business Mingle in Houston!\n\n\n\nConnect\, collaborate\, and create new opportunities at the Nordic Business Mingle in the heart of Houston!\n\n\n\nThis vibrant networking event brings together members of the Danish\, Finnish\, Norwegian\, and Swedish communities for an evening of friendly exchanges\, inspiring conversations\, and valuable business connections. Set against the lively backdrop of Angel Share in Historic Downtown\, this is your chance to expand your professional network while enjoying great company and refreshing drinks.\n\n\n\nThis event is the first in a dynamic new series where SACC Houston\, alongside fellow Nordic chambers\, will foster connections between European and Nordic neighbors boosting business exchange and sharing positive energy.\n\n\n\nNo registration needed! Just swing by after work and bring your best networking spirit.\n\n\n\nWe look forward to seeing you there!\n\n\n\n  Date: Thursday\, March 27\, 2025\n\n  Time: 5:30 PM - 8:00 PM CDT\n\n  Location: Angel Share\, 924 Congress St\, Houston\, TX 77002
X-ALT-DESC;FMTTYPE=text/html:<p><span style="font-size:24px\;"><strong>Join Us for the Nordic Business Mingle in Houston!</strong></span><br />\n<br />\n<span style="font-size:16px\;">Connect\, collaborate\, and create new opportunities at the Nordic Business Mingle in the heart of Houston!<br />\n<br />\nThis vibrant networking event brings together members of the Danish\, Finnish\, Norwegian\, and Swedish communities for an evening of friendly exchanges\, inspiring conversations\, and valuable business connections. Set against the lively backdrop of Angel Share in Historic Downtown\, this is your chance to expand your professional network while enjoying great company and refreshing drinks.<br />\n<br />\nThis event is the first in a dynamic new series where SACC Houston\, alongside fellow Nordic chambers\, will foster connections between European and Nordic neighbors&mdash\;boosting business exchange and sharing positive energy.<br />\n<br />\nNo registration needed! Just swing by after work and bring your best networking spirit.<br />\n<br />\nWe look forward to seeing you there!<br />\n<br />\n<strong>&#128197\; Date: Thursday\, March 27\, 2025<br />\n&#9200\; Time: 5:30 PM - 8:00 PM CDT<br />\n&#128205\; Location: Angel Share\, 924 Congress St\, Houston\, TX 77002</strong></span><br />\n<br />\n&nbsp\;</p>\n
LOCATION:Angel Share\, 924 Congress St\, Houston\, TX 77002
UID:e.1936.4950
SEQUENCE:3
DTSTAMP:20260420T041739Z
URL:https://chamber.sacctx.com/events/details/sacc-houston-nordic-business-mingle-in-houston-4950
END:VEVENT

END:VCALENDAR
