BEGIN:VCALENDAR
VERSION:2.0
PRODID:-//ChamberMaster//Event Calendar 2.0//EN
METHOD:PUBLISH
X-PUBLISHED-TTL:P3D
REFRESH-INTERVAL:P3D
CALSCALE:GREGORIAN
BEGIN:VEVENT
DTSTART:20220514T160000Z
DTEND:20220514T210000Z
X-MICROSOFT-CDO-ALLDAYEVENT:FALSE
SUMMARY:SACC Houston: Pickle Ball Networking Event
DESCRIPTION:Join SACC Houston on Saturday\, May 14 from 11:00am - 4:00pm for Pickle Ball! This is a new networking event and an engaging way to meet fellow SACC-TX members. \n\n\n\nLunch is included and instructors are available for training throughout the day.\n\n\n\nGuests are welcome to bring their own equipment\, otherwise they will be provided. Dress code is sport casual. \n\n\n\nThis event is sponsored by Great IT.
X-ALT-DESC;FMTTYPE=text/html:Join SACC Houston on Saturday\, May 14 from 11:00am - 4:00pm for Pickle Ball! This is a new networking event and an engaging way to meet fellow SACC-TX members.&nbsp\;<br />\n<br />\nLunch is included and instructors are available for training throughout the day.<br />\n<br />\nGuests are welcome to bring their own equipment\, otherwise they will be provided. Dress code is sport casual.&nbsp\;<br />\n<br />\nThis event is sponsored by Great IT.
LOCATION:The Grand 6130 Auburn Lakes Drive Spring\, Texas\, 77389
UID:e.1936.4808
SEQUENCE:3
DTSTAMP:20260422T065902Z
URL:https://chamber.sacctx.com/events/details/sacc-houston-pickle-ball-networking-event-4808
END:VEVENT

END:VCALENDAR
