BEGIN:VCALENDAR
VERSION:2.0
PRODID:-//ChamberMaster//Event Calendar 2.0//EN
METHOD:PUBLISH
X-PUBLISHED-TTL:P3D
REFRESH-INTERVAL:P3D
CALSCALE:GREGORIAN
BEGIN:VEVENT
DTSTART:20250327T170000Z
DTEND:20250327T200000Z
X-MICROSOFT-CDO-ALLDAYEVENT:FALSE
SUMMARY:SACC Houston: She Shines Luncheon at Shell Energy Stadium on March 27th\, hosted by the Houston Dash!
DESCRIPTION:Exclusive for SACC Texas members: Welcome to the She Shines Luncheon at Shell Energy Stadium on March 27th\, hosted by the Houston Dash!\n\nThis inspiring women's panel will feature Angela Hucles Mangano\, President of Women's Soccer for the Houston Dash\, along with other female leaders from the Greater Houston area.\n\nYour ticket includes:\n\n  Admission to the luncheon\n\n  A ticket to the Dash match on March 28th vs. Gotham FC\n\n  A portion of the proceeds donated to Girls Inc.\n\n  Sponsorship of two tickets for Girls Inc. participants to attend the match\n\n  Purchase your ticket here:\n\nHttps://houstondash.group/SHESHINESLUNCHEONMH\n\nLooking forward to seeing you there!
X-ALT-DESC;FMTTYPE=text/html:<div class="x_x_248860804elementToProof" style="color: rgb(0\, 0\, 0)\; margin: 1em 0px\; font-family: Aptos\, Aptos_EmbeddedFont\, Aptos_MSFontService\, Calibri\, Helvetica\, sans-serif\; font-size: 12pt\;">Exclusive for SACC Texas members: Welcome to the&nbsp\;<b>She Shines Luncheon</b>&nbsp\;at Shell Energy Stadium on&nbsp\;<b><span aria-haspopup="true" aria-label="Add a task\, event\, or reminder for March 27th" class="zm_inLnk" data-value="2025-03-27 11:00:00" role="button" style="border-bottom: 1px dashed rgb(85\, 85\, 85)\; cursor: pointer\; line-height: 1\; transition: 0.3s\;" tabindex="0">March 27th</span></b>\, hosted by the Houston Dash!</div>\n\n<div class="x_x_248860804elementToProof" style="color: rgb(0\, 0\, 0)\; margin: 1em 0px\; font-family: Aptos\, Aptos_EmbeddedFont\, Aptos_MSFontService\, Calibri\, Helvetica\, sans-serif\; font-size: 12pt\;">This inspiring women&#39\;s panel will feature&nbsp\;<b>Angela Hucles Mangano</b>\, President of Women&#39\;s Soccer for the Houston Dash\, along with other female leaders from the Greater Houston area.</div>\n\n<div class="x_x_248860804elementToProof" style="color: rgb(0\, 0\, 0)\; margin: 1em 0px\; font-family: Aptos\, Aptos_EmbeddedFont\, Aptos_MSFontService\, Calibri\, Helvetica\, sans-serif\; font-size: 12pt\;"><b>Your ticket includes:</b><br />\n&#9989\; Admission to the luncheon<br />\n&#9989\; A ticket to the&nbsp\;<b>Dash match on&nbsp\;<span aria-haspopup="true" aria-label="Add a task\, event\, or reminder for March 28th" class="zm_inLnk" data-value="2025-03-28 11:00:00" role="button" style="border-bottom: 1px dashed rgb(85\, 85\, 85)\; cursor: pointer\; line-height: 1\; transition: 0.3s\;" tabindex="0">March 28th</span>&nbsp\;vs. Gotham FC</b><br />\n&#9989\; A portion of the proceeds donated to&nbsp\;<b>Girls Inc.</b><br />\n&#9989\; Sponsorship of&nbsp\;<b>two tickets</b>&nbsp\;for Girls Inc. participants to attend the match</div>\n\n<div class="x_x_248860804elementToProof" style="color: rgb(0\, 0\, 0)\; margin: 1em 0px\; font-family: Aptos\, Aptos_EmbeddedFont\, Aptos_MSFontService\, Calibri\, Helvetica\, sans-serif\; font-size: 12pt\;">&#128279\;&nbsp\;<b>Purchase your ticket here:</b></div>\n\n<div class="x_x_248860804elementToProof" style="color: rgb(0\, 0\, 0)\; margin: 1em 0px\; font-family: Aptos\, Aptos_EmbeddedFont\, Aptos_MSFontService\, Calibri\, Helvetica\, sans-serif\; font-size: 12pt\;"><a class="x_x_248860804OWAAutoLink" href="https://houstondash.group/SHESHINESLUNCHEONMH" id="x_x_248860804OWAad4adaf5-dc88-f026-c3a1-c74a22a520bb" style="margin: 0px\;" target="_blank" title="Https://houstondash.group/SHESHINESLUNCHEONMH">Https://houstondash.group/SHESHINESLUNCHEONMH</a></div>\n\n<div class="x_x_248860804elementToProof" style="color: rgb(0\, 0\, 0)\; font-family: Aptos\, Aptos_EmbeddedFont\, Aptos_MSFontService\, Calibri\, Helvetica\, sans-serif\; font-size: 12pt\;">Looking forward to seeing you there!</div>\n
LOCATION:Shell Energy Stadium 2200 Texas St\, Houston\, TX 77003
UID:e.1936.4958
SEQUENCE:3
DTSTAMP:20260420T041833Z
URL:https://chamber.sacctx.com/events/details/sacc-houston-she-shines-luncheon-at-shell-energy-stadium-on-march-27th-hosted-by-the-houston-dash-4958
END:VEVENT

END:VCALENDAR
