BEGIN:VCALENDAR
VERSION:2.0
PRODID:-//ChamberMaster//Event Calendar 2.0//EN
METHOD:PUBLISH
X-PUBLISHED-TTL:P3D
REFRESH-INTERVAL:P3D
CALSCALE:GREGORIAN
BEGIN:VEVENT
DTSTART:20250601T220000Z
DTEND:20250602T000000Z
X-MICROSOFT-CDO-ALLDAYEVENT:FALSE
SUMMARY:SACC Houston: Swedens National Day Celebration 2025
DESCRIPTION:Come and celebrate Swedens National Day with the Consulate General of Sweden\, SACC\, SWEA and the Swedish Club of Houston. We will have Prosecco\, appetizers\, Swedish strawberry cake\, and Swedish summer songs. The "Fiskdamm" (candy fishing game) for the kids is being sponsored by Fika & Candy. \n\n\n\nNote: If you have any E-Z UP or similar pop-up canopy tent that we can borrow for this years celebration\, please contact web@swedishclub.org \n\n\n\nDate: Sunday\, June 1\, 2025 \n\nTime: 5 PM - 7 PM\n\nLocation: Energy Corridor area (the adress will be provided once you have completed the registration and payment process at the link below)\n\nTickets: $15 per adult (18 and up)\, $5 per youth (6-17)\, Children 5 and under free. \n\nRegistration: RSVP (by Thursday\, May 29) and advance payment via this link. \n\n\n\nQuestions: houston@consulateofsweden.org or phone 713-304-0052
X-ALT-DESC;FMTTYPE=text/html:<span style="font-size:16px\;">Come and celebrate Swedens National Day with the Consulate General of Sweden\, SACC\, SWEA and the Swedish Club of Houston. We will have Prosecco\, appetizers\, Swedish strawberry cake\, and Swedish summer songs. The &quot\;Fiskdamm&quot\; (candy fishing game) for the kids is being sponsored by Fika &amp\; Candy.&nbsp\;<br />\n<br />\n<strong>Note:</strong> If you have any E-Z UP or similar pop-up canopy tent that we can borrow for this years celebration\, please contact <span style="color:#0000FF\;">web@swedishclub.org&nbsp\;</span><br />\n<br />\n<strong>Date:</strong> Sunday\, June 1\, 2025&nbsp\;<br />\n<strong>Time</strong>: 5 PM - 7 PM<br />\n<strong>Location:</strong> Energy Corridor area (the adress will be provided once you have completed the registration and payment process at the link below)<br />\n<strong>Tickets:</strong> $15 per adult (18 and up)\, $5 per youth (6-17)\, Children 5 and under free.&nbsp\;<br />\n<strong>Registration:</strong>&nbsp\;RSVP (by Thursday\, May 29) and advance payment via <a href="https://www.swedishclub.org/component/forme/?fid=12">this link</a>.&nbsp\;<br />\n<br />\n<strong>Questions:</strong>&nbsp\;<span style="color:#0000FF\;">houston@consulateofsweden.org</span> or phone 713-304-0052</span><br />\n&nbsp\;
LOCATION:
UID:e.1936.4972
SEQUENCE:3
DTSTAMP:20260419T233114Z
URL:https://chamber.sacctx.com/events/details/sacc-houston-swedens-national-day-celebration-2025-4972
END:VEVENT

END:VCALENDAR
