BEGIN:VCALENDAR
VERSION:2.0
PRODID:-//ChamberMaster//Event Calendar 2.0//EN
METHOD:PUBLISH
X-PUBLISHED-TTL:P3D
REFRESH-INTERVAL:P3D
CALSCALE:GREGORIAN
BEGIN:VEVENT
DTSTART:20250620T213000Z
DTEND:20250621T010000Z
X-MICROSOFT-CDO-ALLDAYEVENT:FALSE
SUMMARY:SACC Houston: Swedish Midsummer Dinner at IKEA
DESCRIPTION:Join us in celebrating the longest day of the year and enjoy delightful dishes\, ambiance\, and experience!\n\n\n\nDon't miss out on this enchanting evening filled with delicious food\, great company\, and summer magic. Seats are limited\, and it's one of our most popular events.\n\nPurchase your tickets in advance at the store.\n\nIKEA Family members receive a special discount: $19.99 for adults (regular price $24.99) $9.99 for kids (regular price $12.99)\n\nNot a member yet? Join for free today. Members save more\, every day\, every visit! Visit IKEA-USA.com\, ask a co-worker\, or sign up at kiosks throughout the store.
X-ALT-DESC;FMTTYPE=text/html:&nbsp\;\n<div style="font-size: 16px\;"><span style="font-size:18px\;"><strong><span style="color: rgb(72\, 72\, 72)\; font-family: &quot\;Noto IKEA&quot\;\, &quot\;Noto Sans&quot\;\, Roboto\, &quot\;Open Sans&quot\;\, system-ui\, sans-serif\;">Join us in celebrating the longest day of the year and enjoy delightful dishes\, ambiance\, and experience!</span></strong></span><br />\n<br />\n<span style="color: rgb(72\, 72\, 72)\; font-family: &quot\;Noto IKEA&quot\;\, &quot\;Noto Sans&quot\;\, Roboto\, &quot\;Open Sans&quot\;\, system-ui\, sans-serif\; white-space-collapse: break-spaces\;">Don&#39\;t miss out on this enchanting evening filled with delicious food\, great company\, and summer magic. Seats are limited\, and it&#39\;s one of our most popular events.<br />\nPurchase your tickets in advance at the store.<br />\nIKEA Family members receive a special discount: $19.99 for adults (regular price $24.99) $9.99 for kids (regular price $12.99)<br />\nNot a member yet? Join for free today. Members save more\, every day\, every visit! Visit IKEA-USA.com\, ask a co-worker\, or sign up at kiosks throughout the store.</span>\n<p>&nbsp\;</p>\n</div>\n
LOCATION:IKEA Houston\, 7810 Katy Fwy\, Houston\, TX 77024
UID:e.1936.4973
SEQUENCE:3
DTSTAMP:20260420T010211Z
URL:https://chamber.sacctx.com/events/details/sacc-houston-swedish-midsummer-dinner-at-ikea-4973
END:VEVENT

END:VCALENDAR
