BEGIN:VCALENDAR
VERSION:2.0
PRODID:-//ChamberMaster//Event Calendar 2.0//EN
METHOD:PUBLISH
X-PUBLISHED-TTL:P3D
REFRESH-INTERVAL:P3D
CALSCALE:GREGORIAN
BEGIN:VEVENT
DTSTART:20250331T170000Z
DTEND:20250331T180000Z
X-MICROSOFT-CDO-ALLDAYEVENT:FALSE
SUMMARY:SACC Texas Annual Meeting
DESCRIPTION:Dear Members\, \n\n\n\nThe Swedish American Chamber of Commerce in Texas hereby invites you to the 2025 Annual Meeting of the Members. The meeting will be held virtually only on Monday March 31\, 2025 at 12 pm. Attached is the agenda for the meeting. \n\n\n\nTo facilitate that the meeting has quorum we have established a proxy which is attached and which you can use if you are unable to attend the meeting. We strongly recommend you execute and send in the proxy even if you plan to attend. \n\n\n\nIT IS IMPORTANT THAT YOU SEND THE EXECUTED AND DATED PROXY BY EMAIL TO THE EMAIL AT THE BOTTOM OF THIS INVITATION\, OR MAIL TO THE ADRESS OF THE MEETING FOR THE ATTENTION OF THE SECRETARY. WE MUST RECIEVE YOUR PROXY PRIOR TO THE MEETING.\n\n\n\nPlease do not hesitate to contact me or your local board if you should have any questions. \n\n\n\nThank you\n\n\n\nHans Cederlund\, President \n\n\n\nEMAIL PROXY TO: \n\nmeg.holmin@sacctx.com\n\n\n\nhttps://chambermaster.blob.core.windows.net/userfiles/UserFiles/chambers/1936/File/AM2025-PROXY1.pdf\n\nhttps://chambermaster.blob.core.windows.net/userfiles/UserFiles/chambers/1936/File/AM2025-AGENDA2.pdf\n\nhttps://chambermaster.blob.core.windows.net/userfiles/UserFiles/chambers/1936/File/AM2025-LETTERTOMEMBERS.pdf
X-ALT-DESC;FMTTYPE=text/html:<br />\nDear Members\,&nbsp\;<br />\n<br />\nThe Swedish American Chamber of Commerce in Texas hereby invites you to the 2025 Annual Meeting of the Members. The meeting will be held virtually only on Monday March 31\, 2025 at 12 pm. Attached is the agenda for the meeting.&nbsp\;<br />\n<br />\nTo facilitate that the meeting has quorum we have established a proxy which is attached and which you can use if you are unable to attend the meeting. We strongly recommend you execute and send in the proxy even if you plan to attend.&nbsp\;<br />\n<br />\n<strong>IT IS IMPORTANT THAT YOU SEND THE EXECUTED AND DATED PROXY BY EMAIL TO THE EMAIL AT THE BOTTOM OF THIS INVITATION\, OR MAIL TO THE ADRESS OF THE MEETING FOR THE ATTENTION OF THE SECRETARY. WE MUST RECIEVE YOUR PROXY PRIOR TO THE MEETING.</strong><br />\n<br />\nPlease do not hesitate to contact me or your local board if you should have any questions.&nbsp\;<br />\n<br />\nThank you<br />\n<br />\nHans Cederlund\, President&nbsp\;<br />\n<br />\n<strong>EMAIL PROXY TO:&nbsp\;</strong><br />\nmeg.holmin@sacctx.com<br />\n<br />\n<a href="https://chambermaster.blob.core.windows.net/userfiles/UserFiles/chambers/1936/File/AM2025-PROXY1.pdf">https://chambermaster.blob.core.windows.net/userfiles/UserFiles/chambers/1936/File/AM2025-PROXY1.pdf</a><br />\n<a href="https://chambermaster.blob.core.windows.net/userfiles/UserFiles/chambers/1936/File/AM2025-AGENDA2.pdf">https://chambermaster.blob.core.windows.net/userfiles/UserFiles/chambers/1936/File/AM2025-AGENDA2.pdf</a><br />\n<a href="https://chambermaster.blob.core.windows.net/userfiles/UserFiles/chambers/1936/File/AM2025-LETTERTOMEMBERS.pdf">https://chambermaster.blob.core.windows.net/userfiles/UserFiles/chambers/1936/File/AM2025-LETTERTOMEMBERS.pdf</a><br />\n<br />\n<br />\n<br />\n&nbsp\;
LOCATION:Join via Zoom: https://us02web.zoom.us/j/86205475015?pwd=xp8L0KP6S4eWjcZvO4HSrmf7aj9VQd.1
UID:e.1936.4948
SEQUENCE:3
DTSTAMP:20260420T041527Z
URL:https://chamber.sacctx.com/events/details/sacc-texas-annual-meeting-4948
END:VEVENT

END:VCALENDAR
