BEGIN:VCALENDAR
VERSION:2.0
PRODID:-//ChamberMaster//Event Calendar 2.0//EN
METHOD:PUBLISH
X-PUBLISHED-TTL:P3D
REFRESH-INTERVAL:P3D
CALSCALE:GREGORIAN
BEGIN:VEVENT
DTSTART:20211211T010000Z
DTEND:20211211T030000Z
X-MICROSOFT-CDO-ALLDAYEVENT:FALSE
SUMMARY:SWEA Houston: Saint Lucia Celebration
DESCRIPTION:Swea Houston invites you\, your family\, friends\, and neighbors to out traditional Saint Lucia Celebration.
X-ALT-DESC;FMTTYPE=text/html:Swea Houston invites you\, your family\, friends\, and neighbors to out traditional Saint Lucia Celebration.
LOCATION:Christ the King Lutheran Church\, 2353 Rice Blvd\, 77005\, Houston\, Texas
UID:e.1936.4767
SEQUENCE:3
DTSTAMP:20260425T145746Z
URL:https://chamber.sacctx.com/events/details/swea-houston-saint-lucia-celebration-4767
END:VEVENT

END:VCALENDAR
