BEGIN:VCALENDAR
VERSION:2.0
PRODID:-//ChamberMaster//Event Calendar 2.0//EN
METHOD:PUBLISH
X-PUBLISHED-TTL:P3D
REFRESH-INTERVAL:P3D
CALSCALE:GREGORIAN
BEGIN:VEVENT
DTSTART:20250506T153000Z
DTEND:20250506T170000Z
X-MICROSOFT-CDO-ALLDAYEVENT:FALSE
SUMMARY:Swedish Cities in Action: Mission-Oriented Approaches for Climate-Neutral Cities
DESCRIPTION:Webinar Invitation: Swedish Cities in Action   Mission-Oriented Approaches for Climate-Neutral Cities\n\nMay 6\, 2025 | 11:30 AM   1:00 PM EDT\n\nHosted virtually   link will be sent to all registered participants\n\nCities account for just 3% of Earth's land area   yet generate nearly 70% of all global greenhouse gas emissions. How can cities take the lead in driving climate-neutral change?\n\nSACC Texas\, in collaboration with the Green Transition Initiative and Viable Cities\, invites you to an insightful webinar exploring Sweden's mission-driven strategies for achieving climate-neutral cities by 2030. This event will highlight actionable methodologies\, pioneering collaborations\, and real-world examples from Swedish city leaders and innovation agencies.\n\nProgram Highlights:\n\n\n	\n	Welcome Remarks\n\n	Linda Andr n\, Executive Director\, Green Transition Initiative\n	\n	\n	Climate City Contracts: A Mission-Driven Process\n\n	Charlotte G Brynielsson\, Sustainability Strategist\, Climate City Contract 2030\n	\n	\n	System Demonstrator: Creating Role Models\n\n	Bj rn Svensby Kurling\, Programme Manager\, Dept. of Community Development\, Vinnova\n	\n	\n	The City of Stockholm's Climate Action Journey\n\n	Annika Jacobsson\, Special Coordinator for Climate Action\, City of Stockholm\n	\n	\n	Moderated Q&A\n\n	Moderated by Jorn Verbeeck\, Urban Strategist\, Dark Matter Labs / Viable Cities\n	\n\n\nAbout the Organizers:\n\nThe Green Transition Initiative (GTI) is a joint effort by the Embassy of Sweden in Washington D.C.\, Business Sweden\, the Swedish Energy Agency\, and Vinnova. Its mission is to position Sweden as a strategic partner for U.S. cities in their urban sustainability transformation. Viable Cities is Sweden's leading strategic innovation program for climate-neutral cities by 2030.\n\n  Register now to secure your spot!\n\nhttps://events.business-sweden.com/events/adc3421147\n\nFor more information:\n\n  www.gti-sweden.se\n\n  linda.andren@gti-sweden.se
X-ALT-DESC;FMTTYPE=text/html:<p data-end="205" data-start="129"><span style="font-size:14px\;"><span style="font-family:arial\;"><strong data-end="223" data-start="118">Webinar Invitation: Swedish Cities in Action &mdash\; Mission-Oriented Approaches for Climate-Neutral Cities</strong></span></span></p>\n\n<p data-end="337" data-start="225"><span style="font-size:14px\;"><span style="font-family:arial\;"><strong data-end="265" data-start="225">May 6\, 2025 | 11:30 AM &ndash\; 1:00 PM EDT</strong><br data-end="268" data-start="265" />\n<em data-end="337" data-start="268">Hosted virtually &mdash\; link will be sent to all registered participants</em></span></span></p>\n\n<p data-end="516" data-start="339"><span style="font-size:14px\;"><span style="font-family:arial\;">Cities account for just 3% of Earth&rsquo\;s land area &mdash\; yet generate nearly 70% of all global greenhouse gas emissions. How can cities take the lead in driving climate-neutral change?</span></span></p>\n\n<p data-end="892" data-start="518"><span style="font-size:14px\;"><span style="font-family:arial\;">SACC Texas\, in collaboration with the <strong data-end="587" data-start="556">Green Transition Initiative</strong> and <strong data-end="609" data-start="592">Viable Cities</strong>\, invites you to an insightful webinar exploring Sweden&rsquo\;s mission-driven strategies for achieving climate-neutral cities by 2030. This event will highlight actionable methodologies\, pioneering collaborations\, and real-world examples from Swedish city leaders and innovation agencies.</span></span></p>\n\n<h4 data-end="922" data-start="894"><span style="font-size:14px\;"><span style="font-family:arial\;"><strong data-end="922" data-start="899">Program Highlights:</strong></span></span></h4>\n\n<ul data-end="1532" data-start="923">\n	<li data-end="1012" data-start="923">\n	<p data-end="1012" data-start="925"><span style="font-size:14px\;"><span style="font-family:arial\;"><strong data-end="944" data-start="925">Welcome Remarks</strong><br data-end="947" data-start="944" />\n	<em data-end="963" data-start="949">Linda Andr&eacute\;n</em>\, Executive Director\, Green Transition Initiative</span></span></p>\n	</li>\n	<li data-end="1153" data-start="1014">\n	<p data-end="1153" data-start="1016"><span style="font-size:14px\;"><span style="font-family:arial\;"><strong data-end="1068" data-start="1016">Climate City Contracts: A Mission-Driven Process</strong><br data-end="1071" data-start="1068" />\n	<em data-end="1098" data-start="1073">Charlotte G Brynielsson</em>\, Sustainability Strategist\, Climate City Contract 2030</span></span></p>\n	</li>\n	<li data-end="1290" data-start="1155">\n	<p data-end="1290" data-start="1157"><span style="font-size:14px\;"><span style="font-family:arial\;"><strong data-end="1202" data-start="1157">System Demonstrator: Creating Role Models</strong><br data-end="1205" data-start="1202" />\n	<em data-end="1230" data-start="1207">Bj&ouml\;rn Svensby Kurling</em>\, Programme Manager\, Dept. of Community Development\, Vinnova</span></span></p>\n	</li>\n	<li data-end="1426" data-start="1292">\n	<p data-end="1426" data-start="1294"><span style="font-size:14px\;"><span style="font-family:arial\;"><strong data-end="1344" data-start="1294">The City of Stockholm&rsquo\;s Climate Action Journey</strong><br data-end="1347" data-start="1344" />\n	<em data-end="1367" data-start="1349">Annika Jacobsson</em>\, Special Coordinator for Climate Action\, City of Stockholm</span></span></p>\n	</li>\n	<li data-end="1532" data-start="1428">\n	<p data-end="1532" data-start="1430"><span style="font-size:14px\;"><span style="font-family:arial\;"><strong data-end="1447" data-start="1430">Moderated Q&amp\;A</strong><br data-end="1450" data-start="1447" />\n	Moderated by <em data-end="1480" data-start="1465">Jorn Verbeeck</em>\, Urban Strategist\, Dark Matter Labs / Viable Cities</span></span></p>\n	</li>\n</ul>\n\n<h4 data-end="1564" data-start="1534"><span style="font-size:14px\;"><span style="font-family:arial\;"><strong data-end="1564" data-start="1539">About the Organizers:</strong></span></span></h4>\n\n<p data-end="1948" data-start="1565"><span style="font-size:14px\;"><span style="font-family:arial\;">The <strong data-end="1606" data-start="1569">Green Transition Initiative (GTI)</strong> is a joint effort by the Embassy of Sweden in Washington D.C.\, Business Sweden\, the Swedish Energy Agency\, and Vinnova. Its mission is to position Sweden as a strategic partner for U.S. cities in their urban sustainability transformation. <strong data-end="1863" data-start="1846">Viable Cities</strong> is Sweden&rsquo\;s leading strategic innovation program for climate-neutral cities by 2030.</span></span></p>\n\n<p data-end="2034" data-start="1950"><span style="font-size:14px\;"><span style="font-family:arial\;">&#128073\; <strong data-end="1990" data-start="1953">Register now to secure your spot!</strong></span></span><br data-end="1993" data-start="1990" />\n<a href="https://events.business-sweden.com/events/adc3421147" style="font-family: Aptos\, Aptos_EmbeddedFont\, Aptos_MSFontService\, Calibri\, Helvetica\, sans-serif\; font-size: 16px\;" target="_blank">https://events.business-sweden.com/events/adc3421147</a></p>\n\n<p data-end="2141" data-start="2036"><span style="font-size:14px\;"><span style="font-family:arial\;">For more information:<br data-end="2060" data-start="2057" />\n&#127760\; <a data-end="2109" data-start="2063" href="https://www.gti-sweden.se" rel="noopener" target="_new">www.gti-sweden.se</a><br data-end="2112" data-start="2109" />\n&#128233\; <a data-end="2141" data-start="2115" rel="noopener">linda.andren@gti-sweden.se</a></span></span></p>\n\n<p data-end="205" data-start="129">&nbsp\;</p>\n
LOCATION:Hosted virtually
UID:e.1936.4966
SEQUENCE:3
DTSTAMP:20260420T041707Z
URL:https://chamber.sacctx.com/events/details/swedish-cities-in-action-mission-oriented-approaches-for-climate-neutral-cities-4966
END:VEVENT

END:VCALENDAR
