BEGIN:VCALENDAR
VERSION:2.0
PRODID:-//ChamberMaster//Event Calendar 2.0//EN
METHOD:PUBLISH
X-PUBLISHED-TTL:P3D
REFRESH-INTERVAL:P3D
CALSCALE:GREGORIAN
BEGIN:VEVENT
DTSTART:20250312T130000Z
DTEND:20250312T140000Z
X-MICROSOFT-CDO-ALLDAYEVENT:FALSE
SUMMARY:Webinar with Nobel Laureate Simon Johnson: Technology and Global Inequality in the Age of AI
DESCRIPTION:Gothenburg U-GOT KIES centre and the Swedish-American Chamber of Commerce Dallas welcome you to a lecture by Simon Johnson\, Professor\, MIT Sloan School\, and Nobel Laureate 2024. \n\n\n\nProfessor Johnson s lecture at this webinar addresses the impact of generative AI on jobs and incomes\, where current debates contrast techno-optimism and techno-pessimism. Based on his co-authored book Power and Progress (with D. Acemoglu)\, Professor Johnson provides insights into historical trends and current debates about how technology impacts jobs\, income and global inequality. He concludes with insights into an active role for policy to shape AI use. \n\n\n\nModerator & organizer: Maureen McKelvey\, Professor\, University of Gothenburg\, Sweden\n\n\n\nDate & time: Wednesday 12 march\, 8 am - 9 am CST\n\nVenue: Digital lecture. Link will be sent out a day before the lecture \n\nSpeaker: Nobel Prize Laureate Professor Simon Johnson \n\n\n\nFree event\, registration required\n\n\n\nRegister here: https://link.gu.se/Events/6929/Apply
X-ALT-DESC;FMTTYPE=text/html:<br />\n<span style="font-size:20px\;"><strong>Gothenburg U-GOT KIES centre and the Swedish-American Chamber of Commerce Dallas welcome you to a lecture by Simon Johnson\, Professor\, MIT Sloan School\, and Nobel Laureate 2024.&nbsp\;</strong></span><br />\n<br />\n<span style="font-size:16px\;">Professor Johnson&acute\;s lecture at this webinar addresses the impact of generative AI on jobs and incomes\, where current debates contrast techno-optimism and techno-pessimism. Based on his co-authored book Power and Progress (with D. Acemoglu)\, Professor Johnson provides insights into historical trends and current debates about how technology impacts jobs\, income and global inequality. He concludes with insights into an active role for policy to shape AI use.&nbsp\;</span><br />\n<br />\n<span style="font-size:16px\;"><strong>Moderator &amp\; organizer:</strong> Maureen McKelvey\, Professor\, University of Gothenburg\, Sweden</span><br />\n<br />\n<span style="font-size:16px\;"><strong>Date &amp\; time:</strong> Wednesday 12 march\, 8 am - 9 am CST<br />\n<strong>Venue:</strong> Digital lecture. Link will be sent out a day before the lecture&nbsp\;<br />\n<strong>Speaker:</strong> Nobel Prize Laureate Professor Simon Johnson&nbsp\;</span><br />\n<br />\n<span style="font-size:16px\;">Free event\, registration required</span><br />\n<br />\n<span style="font-size:16px\;"><strong>Register here:&nbsp\;<a href="https://link.gu.se/Events/6929/Apply">https://link.gu.se/Events/6929/Apply</a></strong></span>
LOCATION:
UID:e.1936.4952
SEQUENCE:3
DTSTAMP:20260420T041840Z
URL:https://chamber.sacctx.com/events/details/webinar-with-nobel-laureate-simon-johnson-technology-and-global-inequality-in-the-age-of-ai-4952
END:VEVENT

END:VCALENDAR
